BEGIN:VCALENDAR
VERSION:2.0
PRODID:-//ChamberMaster//Event Calendar 2.0//EN
METHOD:PUBLISH
X-PUBLISHED-TTL:P3D
REFRESH-INTERVAL:P3D
CALSCALE:GREGORIAN
BEGIN:VEVENT
DTSTART:20221013T230000Z
DTEND:20221014T010000Z
X-MICROSOFT-CDO-ALLDAYEVENT:FALSE
SUMMARY:3-D Wood Pumpkin Making
DESCRIPTION:Bring the pumpkin patch inside with an unfinished slotted pumpkin set. Each set comes with 3 slotted pumpkins\, 9"H\, 7.2"H and 5.5"H.These make for the perfect centerpiece on your holiday table or decor for your mantel. The pumpkins come with two pieces that can be easily slotted together to create a unique 3D standing pumpkin piece.  We will finish one of the pumpkins in class and you will be able to take the other 2 pumpkins home to create them on your own.  They are easy to finish with chalk or acrylic paint\, stain or embellishments of your choice.  Instructor is Lori Souter.
X-ALT-DESC;FMTTYPE=text/html:<span style="background-color:rgb(255\, 255\, 255)\; color:rgb(51\, 51\, 51)\; font-family:sans-serif\,arial\,verdana\,trebuchet ms\; font-size:13px">Bring the pumpkin patch inside with an unfinished slotted pumpkin set. Each set comes with 3 slotted pumpkins\, 9&quot\;H\, 7.2&quot\;H and 5.5&quot\;H.These make for the perfect centerpiece on your holiday table or decor for your mantel. The pumpkins come with two pieces that can be easily slotted together to create a unique 3D standing pumpkin piece. &nbsp\;We will finish one of the pumpkins in class and you will be able to take the other 2 pumpkins home to create them on your own.&nbsp\; They are easy to finish with chalk or acrylic paint\, stain or embellishments of your choice.&nbsp\; Instructor is Lori Souter</span><span style="background-color:rgb(255\, 255\, 255)\; font-family:docs-calibri\; font-size:15px">.</span>
LOCATION:Hachie House 105 N. Hawkins Waxahachie\, Texas 75165
UID:e.2888.5803
SEQUENCE:3
DTSTAMP:20260424T040611Z
URL:https://business.waxahachiechamber.com/events/details/3-d-wood-pumpkin-making-5803
END:VEVENT

END:VCALENDAR
