BEGIN:VCALENDAR
VERSION:2.0
PRODID:-//ChamberMaster//Event Calendar 2.0//EN
METHOD:PUBLISH
X-PUBLISHED-TTL:P3D
REFRESH-INTERVAL:P3D
CALSCALE:GREGORIAN
BEGIN:VEVENT
DTSTART:20221211T140000Z
DTEND:20221211T180000Z
X-MICROSOFT-CDO-ALLDAYEVENT:FALSE
SUMMARY:6th Annual Greg Littrell Memorial Golf Classic
DESCRIPTION:Benefitting Brave Like Ellie
X-ALT-DESC;FMTTYPE=text/html:Benefitting Brave Like Ellie
LOCATION:Cowboys Golf Club
UID:e.2888.5767
SEQUENCE:3
DTSTAMP:20260424T095430Z
URL:https://business.waxahachiechamber.com/events/details/6th-annual-greg-littrell-memorial-golf-classic-5767
END:VEVENT

END:VCALENDAR
