BEGIN:VCALENDAR
VERSION:2.0
PRODID:-//ChamberMaster//Event Calendar 2.0//EN
METHOD:PUBLISH
X-PUBLISHED-TTL:P3D
REFRESH-INTERVAL:P3D
CALSCALE:GREGORIAN
BEGIN:VEVENT
DTSTART:20221017T230000Z
DTEND:20221025T000000Z
X-MICROSOFT-CDO-ALLDAYEVENT:FALSE
SUMMARY:Adobe Lightroom - Photo Editor
DESCRIPTION:Learn how to edit and manage your digital photos with Adobe Lightroom. Lightroom provides in-depth\, professional photo editing tools and world class asset management in one easy to use program. Let us show you how Lightroom can take your photography to the next level! Please bring your laptop. Students will need to purchase Adobe Online Lightroom at $9.99. Instructor will help set it up during first class and can cancel anytime. Instructor is Shawna Mathis.
X-ALT-DESC;FMTTYPE=text/html:<span style="background-color:rgb(255\, 255\, 255)\; font-family:roboto\,robotodraft\,helvetica\,arial\,sans-serif\; font-size:13px">Learn how to edit and manage your digital photos with Adobe Lightroom. Lightroom provides in-depth\, professional photo editing tools and world class asset management in one easy to use program. Let us show you how Lightroom can take your photography to the next level! Please bring your laptop. Students will need to purchase Adobe Online Lightroom at $9.99. Instructor will help set it up during first class and can cancel anytime. Instructor is Shawna Mathis. </span><span style="font-size:10.0pt"> </span>
LOCATION:Waxahachie High School 275 Indian Drive Waxahachie\, TX 75165
UID:e.2888.5821
SEQUENCE:3
DTSTAMP:20260424T055419Z
URL:https://business.waxahachiechamber.com/events/details/adobe-lightroom-photo-editor-10-17-2022-5821
END:VEVENT

END:VCALENDAR
