BEGIN:VCALENDAR
VERSION:2.0
PRODID:-//ChamberMaster//Event Calendar 2.0//EN
METHOD:PUBLISH
X-PUBLISHED-TTL:P3D
REFRESH-INTERVAL:P3D
CALSCALE:GREGORIAN
BEGIN:VEVENT
DTSTART:20240130T010000Z
DTEND:20240130T020000Z
X-MICROSOFT-CDO-ALLDAYEVENT:FALSE
SUMMARY:Assisting Teens Having Thoughts of Suicide
DESCRIPTION:Attend this free event in person or virtually. Register online at Mentors Care   2024 Mentor Community Connection (lglforms.com)
X-ALT-DESC;FMTTYPE=text/html:Attend this free event in person or virtually. Register online at&nbsp\;<a href="https://secure.lglforms.com/form_engine/s/8AK5hSuMqU0wpLBOot5FFw">Mentors Care &middot\; 2024 Mentor Community Connection (lglforms.com)</a>
LOCATION:FBC Midlothian 1680 S Midlothian Parkway Midlothian\, TX 75165
UID:e.2888.6737
SEQUENCE:3
DTSTAMP:20260424T090257Z
URL:https://business.waxahachiechamber.com/events/details/assisting-teens-having-thoughts-of-suicide-6737
END:VEVENT

END:VCALENDAR
