BEGIN:VCALENDAR
VERSION:2.0
PRODID:-//ChamberMaster//Event Calendar 2.0//EN
METHOD:PUBLISH
X-PUBLISHED-TTL:P3D
REFRESH-INTERVAL:P3D
CALSCALE:GREGORIAN
BEGIN:VEVENT
DTSTART:20221017T230000Z
DTEND:20221018T010000Z
X-MICROSOFT-CDO-ALLDAYEVENT:FALSE
SUMMARY:Basics of Brush Pen Calligraphy
DESCRIPTION:Learn the basics of beautiful hand-lettering!  We will review basic strokes\, lines\, and tips for keeping lines straight and letters even while practicing letters\, words\, and quotes.  Workbook & Pen is included.  Instructor:  Sara Clements
X-ALT-DESC;FMTTYPE=text/html:<span style="font-size:10.0pt">Learn the basics of beautiful hand-lettering!&nbsp\; We will review basic strokes\, lines\, and tips for keeping lines straight and letters even while practicing letters\, words\, and quotes.&nbsp\; Workbook &amp\; Pen is included.&nbsp\; Ins</span><span style="font-size:10.0pt">tructor:&nbsp\; Sara Clements </span>
LOCATION:Global High School 275 Indian Drive Waxahachie\, Texas 75165
UID:e.2888.5793
SEQUENCE:3
DTSTAMP:20260424T055913Z
URL:https://business.waxahachiechamber.com/events/details/basics-of-brush-pen-calligraphy-10-17-2022-5793
END:VEVENT

END:VCALENDAR
