BEGIN:VCALENDAR
VERSION:2.0
PRODID:-//ChamberMaster//Event Calendar 2.0//EN
METHOD:PUBLISH
X-PUBLISHED-TTL:P3D
REFRESH-INTERVAL:P3D
CALSCALE:GREGORIAN
BEGIN:VEVENT
DTSTART:20221006T230000Z
DTEND:20221021T000000Z
X-MICROSOFT-CDO-ALLDAYEVENT:FALSE
SUMMARY:Basics of Photography
DESCRIPTION:Join this practical photography course for the beginner. You will learn the most essential functions of your camera\, gain confidence in putting new functions into action and get the swing of basic photographic terminology. Topics covered will be most relevant for DSLR cameras\, not point and shoot. In this class you will learn the basic fundamentals of photography with the first two nights in a classroom setting. The last class you will meet downtown Waxahachie and enjoy hands on learning as your instructor guides you! Instructor is Shawna Mathis.
X-ALT-DESC;FMTTYPE=text/html:<span style="background-color:rgb(255\, 255\, 255)\; font-family:roboto\,robotodraft\,helvetica\,arial\,sans-serif\; font-size:13px">Join this practical photography course for the beginner. You will learn the most essential functions of your camera\, gain confidence in putting new functions into action and get the swing of basic photographic terminology. Topics covered will be most relevant for DSLR cameras\, not point and shoot. In this class you will learn the basic fundamentals of photography with the first two nights in a classroom setting. The last class you will meet downtown Waxahachie and enjoy hands on learning as your instructor guides you! Instructor is Shawna Mathis.</span><span style="font-size:10.0pt"> </span>
LOCATION:Waxahachie Global High School 275 Indian Drive Waxahachie\, TX 75165
UID:e.2888.5820
SEQUENCE:3
DTSTAMP:20260424T055911Z
URL:https://business.waxahachiechamber.com/events/details/basics-of-photography-10-06-2022-5820
END:VEVENT

END:VCALENDAR
