BEGIN:VCALENDAR
VERSION:2.0
PRODID:-//ChamberMaster//Event Calendar 2.0//EN
METHOD:PUBLISH
X-PUBLISHED-TTL:P3D
REFRESH-INTERVAL:P3D
CALSCALE:GREGORIAN
BEGIN:VEVENT
DTSTART:20240118T220000Z
DTEND:20240119T000000Z
X-MICROSOFT-CDO-ALLDAYEVENT:FALSE
SUMMARY:Bingo at The Hamilton at Garden Valley
DESCRIPTION:Benefits Manna House. $1.00 per Bingo Card. Open to the public. Beverages and snacks provided.
X-ALT-DESC;FMTTYPE=text/html:Benefits Manna House. $1.00 per Bingo Card. Open to the public. Beverages and snacks provided.
LOCATION:880 Garden Valley Parkway Waxahachie\, TX 75165
UID:e.2888.6735
SEQUENCE:3
DTSTAMP:20260424T090725Z
URL:https://business.waxahachiechamber.com/events/details/bingo-at-the-hamilton-at-garden-valley-6735
END:VEVENT

END:VCALENDAR
