BEGIN:VCALENDAR
VERSION:2.0
PRODID:-//ChamberMaster//Event Calendar 2.0//EN
METHOD:PUBLISH
X-PUBLISHED-TTL:P3D
REFRESH-INTERVAL:P3D
CALSCALE:GREGORIAN
BEGIN:VEVENT
DTSTART:20240419T230000Z
DTEND:20240420T030000Z
X-MICROSOFT-CDO-ALLDAYEVENT:FALSE
SUMMARY:Bling Bang Bash Designer Purse Bingo & Gun Raffle
DESCRIPTION:Join CASA of Ellis County and the Ellis County Children's Advocacy Center for our BLING BANG BASH Designer Bag Bingo & Gun Raffle April 19\, 2024 at 6:00 p.m. at the Sokol Hall\, 2622 TX-34\, Ennis\, TX Join CASA and the ECCAC for a FUN evening filled with 20 BINGO GAMES where players will have a chance win one of o ur gorgeous designer handbags and guests will have the opportunity to purchase raffle tickets for a chance to win one of 10 items in our GUN RAFFLE! The evening will also include a silent and live auction\, door prizes\, food\, drinks and more. Proceeds will help fund incidentals for our CASA Kiddos in foster care and will also help fund ECCAC therapy for children who have been victims of or who have witnessed a crime. Please note that guests must be at least 21 years old to participate in Bingo games. Click here for ticket and sponsorship information. For more information please call CASA at 972-937-1455\, the ECCAC at 972-937-1870 or contact kim@casaofelliscounty.org.
X-ALT-DESC;FMTTYPE=text/html:Join CASA of Ellis County and the Ellis County Children&rsquo\;s Advocacy Center for our BLING BANG BASH Designer Bag Bingo &amp\; Gun Raffle April 19\, 2024 at 6:00 p.m. at the Sokol Hall\, 2622 TX-34\, Ennis\, TX Join CASA and the ECCAC for a FUN evening filled with 20 BINGO GAMES where players will have a chance win one of o ur gorgeous designer handbags and guests will have the opportunity to purchase raffle tickets for a chance to win one of 10 items in our GUN RAFFLE! The evening will also include a silent and live auction\, door prizes\, food\, drinks and more. Proceeds will help fund incidentals for our CASA Kiddos in foster care and will also help fund ECCAC therapy for children who have been victims of or who have witnessed a crime. Please note that guests must be at least 21 years old to participate in Bingo games. Click here for ticket and sponsorship information. For more information please call CASA at 972-937-1455\, the ECCAC at 972-937-1870 or contact kim@casaofelliscounty.org.
LOCATION:Sokol Hall\, 2622 TX-34\, Ennis\, TX.
UID:e.2888.6783
SEQUENCE:3
DTSTAMP:20260424T074600Z
URL:https://business.waxahachiechamber.com/events/details/bling-bang-bash-designer-purse-bingo-gun-raffle-6783
END:VEVENT

END:VCALENDAR
