BEGIN:VCALENDAR
VERSION:2.0
PRODID:-//ChamberMaster//Event Calendar 2.0//EN
METHOD:PUBLISH
X-PUBLISHED-TTL:P3D
REFRESH-INTERVAL:P3D
CALSCALE:GREGORIAN
BEGIN:VEVENT
DTSTART:20221002T000000Z
DTEND:20221002T030000Z
X-MICROSOFT-CDO-ALLDAYEVENT:FALSE
SUMMARY:BRILLIANCE - ELLIS COUNTY'S GOT TALENT
DESCRIPTION:NAVARRO COLLEGE PRESENTS: BRILLIANCE - ELLIS COUNTY'S GOT TALENT\n\n\n\nOver the last 10 years\, Brilliance has provided scholarships for over 1\,800 Ellis County Dual Credit & General Academic students because of the generous support of Ellis County Businesses and Individuals. In keeping with the founding goal of Brilliance\, we have been able to award every student that qualifies\, a Brilliance scholarship.\n\n\n\nFOR SPONSORSHIPS OR TICKETS - \n\nBrilliance   Ellis County Campuses | Navarro College Foundation
X-ALT-DESC;FMTTYPE=text/html:<span style="font-size:20px\;">NAVARRO COLLEGE PRESENTS: BRILLIANCE - ELLIS COUNTY&#39\;S GOT TALENT</span><br />\n<br />\n<span style="font-family: &quot\;Helvetica Neue&quot\;\, sans-serif\; font-size: 20px\;">Over the last 10 years\, Brilliance has provided scholarships for over 1\,800 Ellis County Dual Credit &amp\; General Academic students because of the generous support of Ellis County Businesses and Individuals. In keeping with the founding goal of Brilliance\, we have been able to award every student that qualifies\, a Brilliance scholarship.<br />\n<br />\nFOR SPONSORSHIPS OR TICKETS -&nbsp\;</span><br />\n<a href="https://www.navarrocollege.edu/foundation/brilliance/index.html">Brilliance &ndash\; Ellis County Campuses | Navarro College Foundation</a>
LOCATION:
UID:e.2888.5753
SEQUENCE:3
DTSTAMP:20260424T040709Z
URL:https://business.waxahachiechamber.com/events/details/brilliance-ellis-county-s-got-talent-5753
END:VEVENT

END:VCALENDAR
