BEGIN:VCALENDAR
VERSION:2.0
PRODID:-//ChamberMaster//Event Calendar 2.0//EN
METHOD:PUBLISH
X-PUBLISHED-TTL:P3D
REFRESH-INTERVAL:P3D
CALSCALE:GREGORIAN
BEGIN:VEVENT
DTSTART:20221005T170000Z
DTEND:20221005T180000Z
X-MICROSOFT-CDO-ALLDAYEVENT:FALSE
SUMMARY:BUSINESS LAW FOR SMALL BUSINESS OWNERS #2
DESCRIPTION:Exclusive educational opportunity for Waxahachie Chamber Members - BUSINESS LAW FOR SMALL BUSINESS OWNERS SERIES\, presented by Gray Reed Law Firm. Lunch provided.\n\n\n\nThis session's topic will be LABOR & EMPLOYMENT LAW with Michael Kelsheimer\, an Employment Law Attorney and Partner at Gray Reed.\n\n\n\nBusiness owners have enough to deal with just running their companies.  Keeping up with the myriad of state and federal employment laws adds a layer of complexity that business owners often struggle to address.  Wage and hour issues\, using contractors instead of employees\, avoiding audits\, the positives and negatives of non-competition agreements\, employee handbooks\, conducting terminations to avoid risk\, and dealing with the growing desire for employees to work from home all merit some practical advice.  Michael Kelsheimer\, an Employment Law attorney and Partner at Gray Reed\, will present on the top issues he sees employers struggle with and offer practical advice on efficiently addressing these points. \n\n\n\nPlease RSVP to admin@waxahachiechamber.com to hold your spot for this luncheon - seating is limited.
X-ALT-DESC;FMTTYPE=text/html:<span style="font-size:16px\;"><span style="color: rgb(50\, 49\, 48)\; background-color: rgb(255\, 255\, 255)\;">Exclusive educational opportunity for Waxahachie Chamber Members - BUSINESS LAW FOR SMALL BUSINESS OWNERS&nbsp\;SERIES\, presented by G</span><span style="color: rgb(50\, 49\, 48)\; background-color: rgb(255\, 255\, 255)\;">ray Reed Law Firm. Lunch provided.<br />\n<br />\nThis session&#39\;s topic will be LABOR &amp\; EMPLOYMENT LAW with&nbsp\;</span><span style="font-family:arial\;"><span style="color: rgb(51\, 51\, 51)\; background-color: rgb(255\, 255\, 255)\;">Michael Kelsheimer\, an Employment Law Attorney and Partner at Gray Reed.</span></span><br />\n<br />\n<span style="font-family:arial\;"><span style="background-color: rgb(255\, 255\, 255)\;">Business owners have enough to deal with just running their companies.&nbsp\; Keeping up with the myriad of state and federal employment laws adds a layer of complexity that business owners often struggle to address.&nbsp\; Wage and hour issues\, using contractors instead of employees\, avoiding audits\, the positives and negatives of non-competition agreements\, employee handbooks\, conducting terminations to avoid risk\, and dealing with the growing desire for employees to work from home all merit some practical advice.&nbsp\; Michael Kelsheimer\, an Employment Law attorney and Partner at Gray Reed\, will present on the top issues he sees employers struggle with and offer practical advice on efficiently addressing these points.&nbsp\;</span></span><br aria-hidden="true" style="color: rgb(50\, 49\, 48)\; font-family: Arial\; font-size: 14px\; background-color: rgb(255\, 255\, 255)\;" />\n<br aria-hidden="true" style="color: rgb(50\, 49\, 48)\; font-family: Arial\; font-size: 14px\; background-color: rgb(255\, 255\, 255)\;" />\n<span style="color: rgb(50\, 49\, 48)\; background-color: rgb(255\, 255\, 255)\;">Please RSVP to admin@waxahachiechamber.com to hold your spot for this luncheon - seating is&nbsp\;limited.&nbsp\;</span></span><br aria-hidden="true" style="color: rgb(50\, 49\, 48)\; font-family: Arial\; font-size: 14px\; background-color: rgb(255\, 255\, 255)\;" />\n<br aria-hidden="true" style="color: rgb(50\, 49\, 48)\; font-family: Arial\; font-size: 14px\; background-color: rgb(255\, 255\, 255)\;" />\n&nbsp\;
LOCATION:Waxahachie Chamber of Commerce Boardroom 102 YMCA Drive Waxahachie\, TX
UID:e.2888.5754
SEQUENCE:3
DTSTAMP:20260424T041609Z
URL:https://business.waxahachiechamber.com/events/details/business-law-for-small-business-owners-2-5754
END:VEVENT

END:VCALENDAR
