BEGIN:VCALENDAR
VERSION:2.0
PRODID:-//ChamberMaster//Event Calendar 2.0//EN
METHOD:PUBLISH
X-PUBLISHED-TTL:P3D
REFRESH-INTERVAL:P3D
CALSCALE:GREGORIAN
BEGIN:VEVENT
DTSTART:20221102T170000Z
DTEND:20221102T180000Z
X-MICROSOFT-CDO-ALLDAYEVENT:FALSE
SUMMARY:BUSINESS LAW FOR SMALL BUSINESS OWNERS #3
DESCRIPTION:NEW educational opportunity for Waxahachie Chamber Members - BUSINESS LAW FOR SMALL BUSINESS OWNERS SERIES! \n\n\n\nGray Reed Law Firm and Attorney Patrick Souter\, one of Waxahachie's new City Council members will be offering this exclusive series. \n\n\n\nThis session's topic will be LITIGATION.\n\n\n\nPlease RSVP to admin@waxahachiechamber.com to hold your spot - seating is limited. Lunch will be provided.
X-ALT-DESC;FMTTYPE=text/html:<span style="color: rgb(50\, 49\, 48)\; font-family: Arial\; font-size: 14px\; background-color: rgb(255\, 255\, 255)\;">NEW educational opportunity for Waxahachie Chamber Members - BUSINESS LAW FOR SMALL BUSINESS OWNERS&nbsp\;SERIES!&nbsp\;</span><br aria-hidden="true" style="color: rgb(50\, 49\, 48)\; font-family: Arial\; font-size: 14px\; background-color: rgb(255\, 255\, 255)\;" />\n<br aria-hidden="true" style="color: rgb(50\, 49\, 48)\; font-family: Arial\; font-size: 14px\; background-color: rgb(255\, 255\, 255)\;" />\n<span style="color: rgb(50\, 49\, 48)\; font-family: Arial\; font-size: 14px\; background-color: rgb(255\, 255\, 255)\;">Gray Reed Law Firm and Attorney Patrick Souter\, one of Waxahachie&#39\;s new City Council members will be offering this exclusive series.&nbsp\;<br />\n<br />\nThis session&#39\;s topic will be LITIGATION.</span><br aria-hidden="true" style="color: rgb(50\, 49\, 48)\; font-family: Arial\; font-size: 14px\; background-color: rgb(255\, 255\, 255)\;" />\n<br aria-hidden="true" style="color: rgb(50\, 49\, 48)\; font-family: Arial\; font-size: 14px\; background-color: rgb(255\, 255\, 255)\;" />\n<span style="color: rgb(50\, 49\, 48)\; font-family: Arial\; font-size: 14px\; background-color: rgb(255\, 255\, 255)\;">Please RSVP to admin@waxahachiechamber.com to hold your spot - seating is&nbsp\;limited. Lunch will be provided.</span><br aria-hidden="true" style="color: rgb(50\, 49\, 48)\; font-family: Arial\; font-size: 14px\; background-color: rgb(255\, 255\, 255)\;" />\n<br aria-hidden="true" style="color: rgb(50\, 49\, 48)\; font-family: Arial\; font-size: 14px\; background-color: rgb(255\, 255\, 255)\;" />\n&nbsp\;
LOCATION:Waxahachie Chamber of Commerce Board Room 102 YMCA Drive Waxahachie\, TX
UID:e.2888.5755
SEQUENCE:3
DTSTAMP:20260424T060103Z
URL:https://business.waxahachiechamber.com/events/details/business-law-for-small-business-owners-3-5755
END:VEVENT

END:VCALENDAR
