BEGIN:VCALENDAR
VERSION:2.0
PRODID:-//ChamberMaster//Event Calendar 2.0//EN
METHOD:PUBLISH
X-PUBLISHED-TTL:P3D
REFRESH-INTERVAL:P3D
CALSCALE:GREGORIAN
BEGIN:VEVENT
DTSTART:20230207T180000Z
DTEND:20230207T190000Z
X-MICROSOFT-CDO-ALLDAYEVENT:FALSE
SUMMARY:BUSINESS LAW FOR SMALL BUSINESS OWNERS
DESCRIPTION:PRESENTED BY GRAY REED LAW FIRM\n\n\n\nThis session's topic will be...Best Practices in Protecting Business Proprietary Rights and Intellectual Property\n\n\n\nA business's most valuable assets are its proprietary information\, name and reputation.  However\, those assets may be used by third parties to the detriment of the business without its consent or any compensation\, including waiving any legal rights the business may have to those assets if not properly protected. Patrick Souter of Gray Reed will present on Best Practices in Protecting Business Proprietary Rights and Intellectual Property in the fourth installment of Business Law for the Small Business Owners Series.  The presentation will discuss what constitutes proprietary rights and steps one should take to prevent others from using them including confidentiality and licensing agreements\, non-compete and non-solicitation provisions\, copyrights\, trademarks and patents.  This topic is important no matter the size or type of the business.\n\n\n\nPlease RSVP to admin@waxahachiechamber.com to hold your spot - seating is limited. Lunch will be provided.
X-ALT-DESC;FMTTYPE=text/html:<span style="font-family:tahoma\;"><span style="font-size:16px\;"><span style="color: rgb(50\, 49\, 48)\; background-color: rgb(255\, 255\, 255)\;">PRESENTED BY <a href="https://www.grayreed.com/">GRAY REED LAW FIRM</a><br />\n<br />\nThis session&#39\;s topic will be...</span><span style="text-align: justify\; background-color: rgb(255\, 255\, 255)\;">Best Practices in Protecting Business Proprietary Rights and Intellectual Property</span><br />\n<br />\n<span style="color: rgb(0\, 0\, 0)\; text-align: justify\;">A business&rsquo\;s most valuable assets are its proprietary information\, name and reputation.&nbsp\; However\, those assets may be used by third parties to the detriment of the business without its consent or any compensation\, including waiving any legal rights the business may have to those assets if not properly protected.&nbsp\;</span><span class="mark4dh4240ml" data-markjs="true" data-ogab="" data-ogac="" data-ogsb="" data-ogsc="" style="border: 0px\; font-variant-numeric: inherit\; font-variant-east-asian: inherit\; font-stretch: inherit\; line-height: inherit\; margin: 0px\; padding: 0px\; vertical-align: baseline\; color: rgb(0\, 0\, 0)\; text-align: justify\;">Patrick</span><span style="color: rgb(0\, 0\, 0)\; text-align: justify\;">&nbsp\;</span><span class="mark8hw060558" data-markjs="true" data-ogab="" data-ogac="" data-ogsb="" data-ogsc="" style="border: 0px\; font-variant-numeric: inherit\; font-variant-east-asian: inherit\; font-stretch: inherit\; line-height: inherit\; margin: 0px\; padding: 0px\; vertical-align: baseline\; color: rgb(0\, 0\, 0)\; text-align: justify\;">Souter</span><span style="color: rgb(0\, 0\, 0)\; text-align: justify\;">&nbsp\;of Gray Reed will present on Best Practices in Protecting Business Proprietary Rights and Intellectual Property in the fourth installment of Business Law for the Small Business Owners Series.&nbsp\; The presentation will discuss what constitutes proprietary rights and steps one should take to prevent others from using them including confidentiality and licensing agreements\, non-compete and non-solicitation provisions\, copyrights\, trademarks and patents.&nbsp\; This topic is important no matter the size or type of the business.</span><br aria-hidden="true" style="color: rgb(50\, 49\, 48)\; font-family: Arial\; font-size: 14px\; background-color: rgb(255\, 255\, 255)\;" />\n<br aria-hidden="true" style="color: rgb(50\, 49\, 48)\; font-family: Arial\; font-size: 14px\; background-color: rgb(255\, 255\, 255)\;" />\n<span style="color: rgb(50\, 49\, 48)\; background-color: rgb(255\, 255\, 255)\;">Please RSVP to admin@waxahachiechamber.com to hold your spot - seating is&nbsp\;limited. Lunch will be provided.</span></span></span><br aria-hidden="true" style="color: rgb(50\, 49\, 48)\; font-family: Arial\; font-size: 14px\; background-color: rgb(255\, 255\, 255)\;" />\n<br aria-hidden="true" style="color: rgb(50\, 49\, 48)\; font-family: Arial\; font-size: 14px\; background-color: rgb(255\, 255\, 255)\;" />\n&nbsp\;
LOCATION:Waxahachie Chamber of Commerce Boardroom 102 YMCA Drive Waxahachie\, TX 75165
UID:e.2888.5779
SEQUENCE:3
DTSTAMP:20260424T114807Z
URL:https://business.waxahachiechamber.com/events/details/business-law-for-small-business-owners-5779
END:VEVENT

END:VCALENDAR
