BEGIN:VCALENDAR
VERSION:2.0
PRODID:-//ChamberMaster//Event Calendar 2.0//EN
METHOD:PUBLISH
X-PUBLISHED-TTL:P3D
REFRESH-INTERVAL:P3D
CALSCALE:GREGORIAN
BEGIN:VEVENT
DTSTART:20230214T140000Z
DTEND:20230214T150000Z
X-MICROSOFT-CDO-ALLDAYEVENT:FALSE
SUMMARY:Chamber Coffee Connections - Sponsored by Complete Health Medical Center (formerly Ellis County Back Institute)
DESCRIPTION:Sponsor & Host - Complete Health Medical Center\n\n\n\nNote: Sign out front says Ellis County Back Institute\n\n\n\nChamber Members - finding time to network during the work day is hard\, so we suggest fitting it in on your way to work!\n\n\n\nJoin other Chamber Members for a one-hour networking event with complimentary snacks and coffee\, sponsored by Complete Health Medical Center.
X-ALT-DESC;FMTTYPE=text/html:<span style="color: rgb(51\, 51\, 51)\; font-family: Montserrat\, sans-serif\; font-size: 20px\;">Sponsor &amp\; Host - <a href="https://www.completehealthmedicalcenter.com/">Complete Health Medical Center</a></span><br style="color: rgb(51\, 51\, 51)\; box-sizing: border-box\; font-family: Montserrat\, sans-serif\; font-size: 20px\;" />\n<br style="color: rgb(51\, 51\, 51)\; box-sizing: border-box\; font-family: Montserrat\, sans-serif\; font-size: 20px\;" />\n<span style="color: rgb(51\, 51\, 51)\; font-family: Montserrat\, sans-serif\; font-size: 20px\;">Note: Sign out front says Ellis County Back Institute<br />\n<br />\nChamber Members - finding time to network during the work day is hard\, so we suggest fitting it in on your way to work!</span><br style="color: rgb(51\, 51\, 51)\; box-sizing: border-box\; font-family: Montserrat\, sans-serif\; font-size: 20px\;" />\n<br style="color: rgb(51\, 51\, 51)\; box-sizing: border-box\; font-family: Montserrat\, sans-serif\; font-size: 20px\;" />\n<span style="color: rgb(51\, 51\, 51)\; font-family: Montserrat\, sans-serif\; font-size: 20px\;">Join other Chamber Members for a one-hour networking event with complimentary snacks and coffee\, sponsored by Complete Health Medical Center.</span>
LOCATION:Ellis County Back Institute across from Taco Casa 905 Ferris Ave. Waxahachie\, TX 75165
UID:e.2888.5889
SEQUENCE:3
DTSTAMP:20260424T115255Z
URL:https://business.waxahachiechamber.com/events/details/chamber-coffee-connections-sponsored-by-complete-health-medical-center-formerly-ellis-county-back-institute-5889
END:VEVENT

END:VCALENDAR
