BEGIN:VCALENDAR
VERSION:2.0
PRODID:-//ChamberMaster//Event Calendar 2.0//EN
METHOD:PUBLISH
X-PUBLISHED-TTL:P3D
REFRESH-INTERVAL:P3D
CALSCALE:GREGORIAN
BEGIN:VEVENT
DTSTART:20240307T180000Z
DTEND:20240307T190000Z
X-MICROSOFT-CDO-ALLDAYEVENT:FALSE
SUMMARY:Chamber's 1st Thursday Networking - Sponsored by Insperity
DESCRIPTION:SPONSORED BY: INSPERITY\n\n\n\nJoin us for the Waxahachie Chamber's 1st Thursday Networking Lunch with Networking Committee Co-Chairs and Hosts\, Jay Cruzan of Caliber Voice and Data\, and Chelsea Holder of Town Square Title!\n\n\n\nThese one-hour luncheons provide ample opportunity to network with fellow businessmen and women of Ellis County. Lunch is provided by a Sponsor who will also be the Spotlight Speaker.\n\n\n\nFREE TO MEMBERS BUT SEATING IS LIMITED - MUST REGISTER BY EMAILING EVENTS@WAXAHACHIECHAMBER.COM TO RESERVE YOUR SPOT.
X-ALT-DESC;FMTTYPE=text/html:SPONSORED BY: <a href="https://www.insperity.com/">INSPERITY</a><br />\n<br />\nJoin us for the Waxahachie Chamber&#39\;s 1st Thursday Networking Lunch with Networking Committee Co-Chairs and Hosts\, Jay Cruzan of Caliber Voice and Data\, and Chelsea Holder of Town Square Title!<br />\n<br style="color: rgb(51\, 51\, 51)\;" />\n<span style="color: rgb(51\, 51\, 51)\;">These one-hour luncheons provide ample opportunity to network with fellow businessmen and women of Ellis County. Lunch is provided by a Sponsor who will also be the Spotlight Speaker.</span><br style="color: rgb(51\, 51\, 51)\;" />\n<br style="color: rgb(51\, 51\, 51)\;" />\n<span style="color: rgb(51\, 51\, 51)\;">FREE TO MEMBERS BUT SEATING IS LIMITED - MUST REGISTER BY EMAILING EVENTS@WAXAHACHIECHAMBER.COM TO RESERVE YOUR SPOT.</span><br style="color: rgb(51\, 51\, 51)\;" />\n<br style="color: rgb(51\, 51\, 51)\;" />\n&nbsp\;
LOCATION:New Waxahachie Chamber of Commerce Location 412 S. Rogers St.\, Suite 100 Waxahachie\, TX 75165
UID:e.2888.6745
SEQUENCE:3
DTSTAMP:20260424T055234Z
URL:https://business.waxahachiechamber.com/events/details/chamber-s-1st-thursday-networking-sponsored-by-6745
END:VEVENT

END:VCALENDAR
