BEGIN:VCALENDAR
VERSION:2.0
PRODID:-//ChamberMaster//Event Calendar 2.0//EN
METHOD:PUBLISH
X-PUBLISHED-TTL:P3D
REFRESH-INTERVAL:P3D
CALSCALE:GREGORIAN
BEGIN:VEVENT
DTSTART;VALUE=DATE:20261002
DTEND;VALUE=DATE:20261003
TRANSP:TRANSPARENT
X-MICROSOFT-CDO-ALLDAYEVENT:TRUE
SUMMARY:Chamber's 39th Annual Gingerbread Classic at Top Golf Grand Prairie
DESCRIPTION:Details coming soon!
X-ALT-DESC;FMTTYPE=text/html:Details coming soon!
LOCATION:Top Golf Grand Prairie\, TX
UID:e.2888.8648
SEQUENCE:3
DTSTAMP:20260421T204530Z
URL:https://business.waxahachiechamber.com/events/details/chamber-s-39th-annual-gingerbread-classic-at-top-golf-grand-prairie-8648
END:VEVENT

END:VCALENDAR
