BEGIN:VCALENDAR
VERSION:2.0
PRODID:-//ChamberMaster//Event Calendar 2.0//EN
METHOD:PUBLISH
X-PUBLISHED-TTL:P3D
REFRESH-INTERVAL:P3D
CALSCALE:GREGORIAN
BEGIN:VEVENT
DTSTART:20240924T130000Z
DTEND:20240924T140000Z
X-MICROSOFT-CDO-ALLDAYEVENT:FALSE
SUMMARY:Chamber's Coffee Connections at Cottages on Cantrell
DESCRIPTION:Hosted and Sponsored by Cottages on Cantrell\n\n\n\nFinding time to network during the workday is hard\, so we suggest fitting it in on your way to work. Join other chamber members\, quarterly\, for a one-hour networking event with complimentary snacks and coffee. No registration is required - come and go.
X-ALT-DESC;FMTTYPE=text/html:<span style="font-size:16px\;">Hosted and Sponsored by <a href="https://www.cottagesoncantrell.com/">Cottages on Cantrell</a><br />\n<br />\n<span style="color: rgb(5\, 5\, 5)\; font-family: &quot\;Segoe UI Historic&quot\;\, &quot\;Segoe UI&quot\;\, Helvetica\, Arial\, sans-serif\;">Finding time to network during the workday is hard\, so we suggest fitting it in on your way to work. Join other chamber members\, quarterly\, for a one-hour networking event with complimentary snacks and coffee. No registration is required - come and go.</span></span>
LOCATION:Cottages on Cantrell Model Home 320 Woodside Trail Waxahachie\, TX 75165
UID:e.2888.6716
SEQUENCE:3
DTSTAMP:20260424T153712Z
URL:https://business.waxahachiechamber.com/events/details/chamber-s-coffee-connections-at-cottages-on-cantrell-6716
END:VEVENT

END:VCALENDAR
