BEGIN:VCALENDAR
VERSION:2.0
PRODID:-//ChamberMaster//Event Calendar 2.0//EN
METHOD:PUBLISH
X-PUBLISHED-TTL:P3D
REFRESH-INTERVAL:P3D
CALSCALE:GREGORIAN
BEGIN:VEVENT
DTSTART:20241112T140000Z
DTEND:20241112T150000Z
X-MICROSOFT-CDO-ALLDAYEVENT:FALSE
SUMMARY:Chamber's Coffee Connections at The Village at Waxahachie
DESCRIPTION:Hosted and Sponsored by The Village at Waxahachie\n\n\n\nFinding time to network during the workday is hard\, so we suggest fitting it in on your way to work. Join other chamber members\, quarterly\, for a one-hour networking event with complimentary snacks and coffee. No registration is required - come and go.
X-ALT-DESC;FMTTYPE=text/html:<span style="font-size: 16px\;">Hosted and Sponsored by <a href="https://villageatwaxahachie.com/">The Village at Waxahachie</a></span><br style="font-size: 16px\;" />\n<br style="font-size: 16px\;" />\n<span style="font-size: 16px\; color: rgb(5\, 5\, 5)\; font-family: &quot\;Segoe UI Historic&quot\;\, &quot\;Segoe UI&quot\;\, Helvetica\, Arial\, sans-serif\;">Finding time to network during the workday is hard\, so we suggest fitting it in on your way to work. Join other chamber members\, quarterly\, for a one-hour networking event with complimentary snacks and coffee. No registration is required - come and go.</span>
LOCATION:The Village at Waxahachie Clubhouse (enter thru main doors\, just past leasing desk) 131 Village Parkway Waxahachie\, TX 75165
UID:e.2888.6717
SEQUENCE:3
DTSTAMP:20260425T203037Z
URL:https://business.waxahachiechamber.com/events/details/chamber-s-coffee-connections-at-the-village-at-waxahachie-6717
END:VEVENT

END:VCALENDAR
