BEGIN:VCALENDAR
VERSION:2.0
PRODID:-//ChamberMaster//Event Calendar 2.0//EN
METHOD:PUBLISH
X-PUBLISHED-TTL:P3D
REFRESH-INTERVAL:P3D
CALSCALE:GREGORIAN
BEGIN:VEVENT
DTSTART:20240123T140000Z
DTEND:20240123T150000Z
X-MICROSOFT-CDO-ALLDAYEVENT:FALSE
SUMMARY:Chamber's Coffee Connections Sponsored by The Hamilton at Garden Valley
DESCRIPTION:Finding time to network during the workday is hard\, so we suggest fitting it in on your way to work. Join other chamber members\, quarterly\, for a one-hour networking event with complimentary snacks and coffee.
X-ALT-DESC;FMTTYPE=text/html:<span style="font-size:28px\;"><span style="font-family:arial\;"><span class="OYPEnA text-decoration-none text-strikethrough-none" style="color: rgb(0\, 0\, 0)\;">Finding time to network during the workday is hard\, so we suggest fitting it in on your way to work. Join other chamber members\, quarterly\, for a one-hour networking event with complimentary snacks and coffee.</span></span></span>
LOCATION:The Hamilton at Garden Valley 880 Garden Valley Parkway Waxahachie\, TX 75165
UID:e.2888.6700
SEQUENCE:3
DTSTAMP:20260424T110253Z
URL:https://business.waxahachiechamber.com/events/details/chamber-s-coffee-connections-sponsored-by-the-hamilton-at-garden-valley-6700
END:VEVENT

END:VCALENDAR
