BEGIN:VCALENDAR
VERSION:2.0
PRODID:-//ChamberMaster//Event Calendar 2.0//EN
METHOD:PUBLISH
X-PUBLISHED-TTL:P3D
REFRESH-INTERVAL:P3D
CALSCALE:GREGORIAN
BEGIN:VEVENT
DTSTART:20241015T170000Z
DTEND:20241015T180000Z
X-MICROSOFT-CDO-ALLDAYEVENT:FALSE
SUMMARY:Chamber's Georgia Pacific Education Series - "Enhancing Your Online Presence" with Zpurt Media Admin
DESCRIPTION:Zpurt Media Admin's Nae Reese will be presenting on enhancing your business's online presence through social media\, websites\, reels\, stories\, and personal engagement. We'll explore both DIY methods and the benefits of hiring professionals.\n\nZpurt specializes in web design\, logo creation\, and comprehensive graphic design services\, which include content creation\, social media profile pages\, and cover art design.\n\n\n\nThis educational series takes place every other month\, providing you with more opportunities to gain insights from prominent guest speakers who are leaders in business\, education\, and civic and government affairs.\n\n\n\nChamber members enjoy a complimentary lunch while learning about topics focused on helping your business.\n\nFree to Members but seating is limited. Register by emailing events@waxahachiechamber.com.
X-ALT-DESC;FMTTYPE=text/html:<div style="border: 0px\; font-variant-numeric: inherit\; font-variant-east-asian: inherit\; font-variant-alternates: inherit\; font-variant-position: inherit\; font-stretch: inherit\; font-size: 12pt\; line-height: 1.2\; font-family: Aptos\, Aptos_EmbeddedFont\, Aptos_MSFontService\, Calibri\, Helvetica\, sans-serif\; font-optical-sizing: inherit\; font-size-adjust: inherit\; font-kerning: inherit\; font-feature-settings: inherit\; font-variation-settings: inherit\; margin: 1em 0px\; padding: 0px\; vertical-align: baseline\; color: rgb(0\, 0\, 0)\;">Zpurt Media Admin&#39\;s Nae Reese will be presenting on enhancing your business&#39\;s online presence through social media\, websites\, reels\, stories\, and personal engagement. We&rsquo\;ll explore both DIY methods and the benefits of hiring professionals.</div>\n\n<div style="border: 0px\; font-variant-numeric: inherit\; font-variant-east-asian: inherit\; font-variant-alternates: inherit\; font-variant-position: inherit\; font-stretch: inherit\; font-size: 12pt\; line-height: 1.2\; font-family: Aptos\, Aptos_EmbeddedFont\, Aptos_MSFontService\, Calibri\, Helvetica\, sans-serif\; font-optical-sizing: inherit\; font-size-adjust: inherit\; font-kerning: inherit\; font-feature-settings: inherit\; font-variation-settings: inherit\; margin: 1em 0px\; padding: 0px\; vertical-align: baseline\; color: rgb(0\, 0\, 0)\;">Zpurt specializes in web design\, logo creation\, and comprehensive graphic design services\, which include content creation\, social media profile pages\, and&nbsp\;cover art design.<br />\n<br />\nThis educational series takes place every other month\, providing you with more opportunities to gain insights from prominent guest speakers who are leaders in business\, education\, and civic and government affairs.<br />\n<br />\nChamber members enjoy a complimentary lunch while learning about topics focused on helping your business.</div>\n\n<div style="border: 0px\; font-variant-numeric: inherit\; font-variant-east-asian: inherit\; font-variant-alternates: inherit\; font-variant-position: inherit\; font-stretch: inherit\; font-size: 12pt\; line-height: 1.2\; font-family: Aptos\, Aptos_EmbeddedFont\, Aptos_MSFontService\, Calibri\, Helvetica\, sans-serif\; font-optical-sizing: inherit\; font-size-adjust: inherit\; font-kerning: inherit\; font-feature-settings: inherit\; font-variation-settings: inherit\; margin: 0px\; padding: 0px\; vertical-align: baseline\; color: rgb(0\, 0\, 0)\;">Free to Members but seating is limited. Register by emailing events@waxahachiechamber.com.</div>\n
LOCATION:Waxahachie Chamber of Commerce 412 S. Rogers St.\, Suite 100 Waxahachie\, TX 75165
UID:e.2888.6714
SEQUENCE:3
DTSTAMP:20260422T121844Z
URL:https://business.waxahachiechamber.com/events/details/chamber-s-georgia-pacific-education-series-enhancing-your-online-presence-with-zpurt-media-admin-6714
END:VEVENT

END:VCALENDAR
