BEGIN:VCALENDAR
VERSION:2.0
PRODID:-//ChamberMaster//Event Calendar 2.0//EN
METHOD:PUBLISH
X-PUBLISHED-TTL:P3D
REFRESH-INTERVAL:P3D
CALSCALE:GREGORIAN
BEGIN:VEVENT
DTSTART:20221008T123000Z
DTEND:20221008T223000Z
X-MICROSOFT-CDO-ALLDAYEVENT:FALSE
SUMMARY:Chautauqua's Cowboy Poet Gathering
DESCRIPTION:The lineup of performers is emerging for Chautauqua's October 8th look at COWBOY POETRY. It will be a full day (7:30am-5:30pm) of cowboy poetry and music\, all presented free by the Chautauqua Preservation Society. Waxahachie native David Smith\, who is himself an honored cowboy poet\, is busy putting together a stellar program of poets and musicians from across the Southwest and beyond.\n\n\n\nAdditionally\, two popular programs from Chautauqua's past will add to the excitement on Oct. 8:  Birds of Prey Demos & Trash Can Transformation.
X-ALT-DESC;FMTTYPE=text/html:<strong style="overflow-wrap: break-word\; font-family: adobe-garamond-pro\; font-size: 18px\; white-space: pre-wrap\; background-color: rgb(255\, 255\, 255)\;">The lineup of performers is emerging for Chautauqua&#39\;s October 8th look at COWBOY POETRY. It will be a full day (7:30am-5:30pm) of cowboy poetry and music\, all presented free by the Chautauqua Preservation Society. Waxahachie native David Smith\, who is himself an honored cowboy poet\, is busy putting together a stellar program of poets and musicians from across the Southwest and beyond.<br />\n<br />\nAdditionally\, two popular programs from Chautauqua&#39\;s past will add to the excitement on Oct. 8:&nbsp\; Birds of Prey Demos &amp\; Trash Can Transformation.<span style="font-family: adobe-garamond-pro\; font-size: 18px\; white-space: pre-wrap\; background-color: rgb(255\, 255\, 255)\;"> </span></strong>
LOCATION:GETZENDANER MEMORIAL PARK WAXAHACHIE
UID:e.2888.5780
SEQUENCE:3
DTSTAMP:20260424T035935Z
URL:https://business.waxahachiechamber.com/events/details/chautauqua-s-cowboy-poet-gathering-5780
END:VEVENT

END:VCALENDAR
