BEGIN:VCALENDAR
VERSION:2.0
PRODID:-//ChamberMaster//Event Calendar 2.0//EN
METHOD:PUBLISH
X-PUBLISHED-TTL:P3D
REFRESH-INTERVAL:P3D
CALSCALE:GREGORIAN
BEGIN:VEVENT
DTSTART:20231111T160000Z
DTEND:20231112T000000Z
X-MICROSOFT-CDO-ALLDAYEVENT:FALSE
SUMMARY:Christmas Brave Box Building with Brave like Ellie
DESCRIPTION:Join us this Holiday season as we come together to build Brave Boxes for families affected by childhood cancer.\n\nChristmas is the one time of year when we serve the whole family. We shop specifically for each family member\, as well as provide family gifts. We have heard time and time again how impactful these gifts have been to the families we serve.\n\n\n\nSign Up Below:\n\nhttps://betterunite.com/bravelikeellie-holidayhappenings2023
X-ALT-DESC;FMTTYPE=text/html:<p style="text-align:center"><span style="font-family:arial\,helvetica\,sans-serif"><span style="color:rgb(41\, 128\, 185)"><span style="font-size:18px">Join us this Holiday&nbsp\;season as we come together to build Brave Boxes for families affected by childhood cancer.</span></span></span></p>\n\n<p style="text-align:center"><span style="font-family:arial\,helvetica\,sans-serif"><span style="color:rgb(41\, 128\, 185)"><span style="font-size:18px">Christmas is the one time of year when we serve the whole family. We shop specifically for each family member\, as well as provide family gifts. We have heard time and time again how&nbsp\;impactful these gifts have been to the families we serve.<br />\n<br />\nSign Up Below:</span></span></span><br />\n<a href="https://betterunite.com/bravelikeellie-holidayhappenings2023"><u><strong>https://betterunite.com/bravelikeellie-holidayhappenings2023</strong></u></a></p>\n
LOCATION:102 YMCA Drive Waxahachie\, TX 75165
UID:e.2888.6674
SEQUENCE:3
DTSTAMP:20260424T123812Z
URL:https://business.waxahachiechamber.com/events/details/christmas-brave-box-building-6674
END:VEVENT

END:VCALENDAR
