BEGIN:VCALENDAR
VERSION:2.0
PRODID:-//ChamberMaster//Event Calendar 2.0//EN
METHOD:PUBLISH
X-PUBLISHED-TTL:P3D
REFRESH-INTERVAL:P3D
CALSCALE:GREGORIAN
BEGIN:VEVENT
DTSTART:20231118T150000Z
DTEND:20231118T220000Z
X-MICROSOFT-CDO-ALLDAYEVENT:FALSE
SUMMARY:Coleman Jr. High Old Fashioned Craft Show
DESCRIPTION:The Annual Coleman Show raises money for the Waxahachie ISD Student in Need Fund. Gift cards are given to our most food-challenged students when the school district has their breaks. Money is available for emergencies and to help the counselors by providing snacks for the students rather than the counselors having to provide out of their own pocket.
X-ALT-DESC;FMTTYPE=text/html:The Annual Coleman Show raises money for the Waxahachie ISD Student in Need Fund. Gift cards are given to our most food-challenged students when the school district has their breaks. Money is available for emergencies and to help the counselors by providing snacks for the students rather than the counselors having to provide out of their own pocket.
LOCATION:Coleman Jr. High
UID:e.2888.6558
SEQUENCE:3
DTSTAMP:20260424T124426Z
URL:https://business.waxahachiechamber.com/events/details/coleman-jr-high-old-fashioned-craft-show-11-18-2023-6558
END:VEVENT

END:VCALENDAR
