BEGIN:VCALENDAR
VERSION:2.0
PRODID:-//ChamberMaster//Event Calendar 2.0//EN
METHOD:PUBLISH
X-PUBLISHED-TTL:P3D
REFRESH-INTERVAL:P3D
CALSCALE:GREGORIAN
BEGIN:VEVENT
DTSTART:20221014T230000Z
DTEND:20221015T013000Z
X-MICROSOFT-CDO-ALLDAYEVENT:FALSE
SUMMARY:CPR Certification - Heart Saver & AED
DESCRIPTION:Get your official CPR certification and be equipped to save a life. Class focuses on heart saver techniques and use of AED.  Instructor: John Zabojnik\, Texas Cryoworks
X-ALT-DESC;FMTTYPE=text/html:Get your official CPR certification and be equipped to save a life. Class focuses on heart saver techniques and use of AED.&nbsp\;&nbsp\;Instructor:&nbsp\;John Zabojnik\, Texas Cryoworks
LOCATION:Texas Cryoworks 502 Columbia Avenue Waxahachie\, TX 75165
UID:e.2888.5813
SEQUENCE:3
DTSTAMP:20260424T055517Z
URL:https://business.waxahachiechamber.com/events/details/cpr-certification-heart-saver-aed-10-14-2022-5813
END:VEVENT

END:VCALENDAR
