BEGIN:VCALENDAR
VERSION:2.0
PRODID:-//ChamberMaster//Event Calendar 2.0//EN
METHOD:PUBLISH
X-PUBLISHED-TTL:P3D
REFRESH-INTERVAL:P3D
CALSCALE:GREGORIAN
BEGIN:VEVENT
DTSTART:20240406T140000Z
DTEND:20240406T210000Z
X-MICROSOFT-CDO-ALLDAYEVENT:FALSE
SUMMARY:Craft Show Benefitting Waxahachie Care
DESCRIPTION:Craft Show and Food Trucks\n\n\n\nTo be a vendor\, contact Kim Kriegel at kimkrie@aol.com\n\n$50 booth fee
X-ALT-DESC;FMTTYPE=text/html:Craft Show and Food Trucks<br />\n<br />\nTo be a vendor\, contact Kim Kriegel at kimkrie@aol.com<br />\n$50 booth fee
LOCATION:First United Methodist Church Family Center Waxahachie\, TX
UID:e.2888.6786
SEQUENCE:3
DTSTAMP:20260424T074937Z
URL:https://business.waxahachiechamber.com/events/details/craft-show-benefitting-waxahachie-care-6786
END:VEVENT

END:VCALENDAR
