BEGIN:VCALENDAR
VERSION:2.0
PRODID:-//ChamberMaster//Event Calendar 2.0//EN
METHOD:PUBLISH
X-PUBLISHED-TTL:P3D
REFRESH-INTERVAL:P3D
CALSCALE:GREGORIAN
BEGIN:VEVENT
DTSTART;VALUE=DATE:20221022
DTEND;VALUE=DATE:20221023
TRANSP:TRANSPARENT
X-MICROSOFT-CDO-ALLDAYEVENT:TRUE
SUMMARY:Daniel's Den - Spook Out Homelessness 5K and Fun Walk
DESCRIPTION:Daniel's Den is a 501(c)3 nonprofit organization serving homeless residents of Ellis County in need of transitional/emergency housing. The inaugural SPOOK OUT HOMELESSNESS 5K/Fun Walk is a fundraiser in support of Daniel's Den. This is a family-friendly event with food trucks and a live DJ. Participants are encouraged to wear costumes. Please join us on October 22nd in the beautiful Getzendaner Park located in Waxahachie\, TX to participate in this worthy cause. Waxahachie is located 35 miles South of Dallas. Your participation is needed\, and funds raised will be used to provide resources to those we serve! Race awards will be given along with prizes for best costume.
X-ALT-DESC;FMTTYPE=text/html:<span style="color: rgb(45\, 45\, 51)\; font-family: &quot\;Open Sans&quot\;\, &quot\;Noto Sans JP&quot\;\, sans-serif\; font-size: 14px\; text-align: center\; background-color: rgb(255\, 255\, 255)\;">Daniel&rsquo\;s Den is a 501(c)3 nonprofit organization serving homeless residents of Ellis County in need of transitional/emergency housing. The inaugural SPOOK OUT HOMELESSNESS 5K/Fun Walk is a fundraiser in support of Daniel&rsquo\;s Den. This is a family-friendly event with food trucks and a live DJ. Participants are encouraged to wear costumes. Please join us on October 22nd in the beautiful Getzendaner Park located in Waxahachie\, TX to participate in this worthy cause. Waxahachie is located 35 miles South of Dallas. Your participation is needed\, and funds raised will be used to provide resources to those we serve! Race awards will be given along with prizes for best costume.</span>
LOCATION:400 S Grand Ave\, Waxahachie\, TX 75165\, USA
UID:e.2888.5782
SEQUENCE:3
DTSTAMP:20260424T055728Z
URL:https://business.waxahachiechamber.com/events/details/daniel-s-den-spook-out-homelessness-5k-and-fun-walk-5782
END:VEVENT

END:VCALENDAR
