BEGIN:VCALENDAR
VERSION:2.0
PRODID:-//ChamberMaster//Event Calendar 2.0//EN
METHOD:PUBLISH
X-PUBLISHED-TTL:P3D
REFRESH-INTERVAL:P3D
CALSCALE:GREGORIAN
BEGIN:VEVENT
DTSTART:20240301T153000Z
DTEND:20240301T163000Z
X-MICROSOFT-CDO-ALLDAYEVENT:FALSE
SUMMARY:DFW Healthcare Connection - Ellis County Coffee Connection
DESCRIPTION:Bristol Hospice welcomes you to this open networking event!
X-ALT-DESC;FMTTYPE=text/html:Bristol Hospice welcomes you to this open networking event!
LOCATION:1905 N. Hwy 77\, Ste 220 Waxahachie\, TX 75165
UID:e.2888.6780
SEQUENCE:3
DTSTAMP:20260424T054803Z
URL:https://business.waxahachiechamber.com/events/details/dfw-healthcare-connection-ellis-county-coffee-connection-6780
END:VEVENT

END:VCALENDAR
