BEGIN:VCALENDAR
VERSION:2.0
PRODID:-//ChamberMaster//Event Calendar 2.0//EN
METHOD:PUBLISH
X-PUBLISHED-TTL:P3D
REFRESH-INTERVAL:P3D
CALSCALE:GREGORIAN
BEGIN:VEVENT
DTSTART:20231101T230000Z
DTEND:20231102T010000Z
X-MICROSOFT-CDO-ALLDAYEVENT:FALSE
SUMMARY:Dia De Los Muertos
DESCRIPTION:Come help us celebrate the memories of our loved ones who have passed away. We will have face painting\, food and merchant vendors\, mariachis\, Dunaway Folklorico will be dancing\, and an "Ofrenda" set up for you to place the picture of your loved one!
X-ALT-DESC;FMTTYPE=text/html:Come help us celebrate the memories of our loved ones who have passed away. We will have face painting\, food and merchant vendors\, mariachis\, Dunaway Folklorico will be dancing\, and an &quot\;Ofrenda&quot\; set up for you to place the picture of your loved one!
LOCATION:Gateway Memorial Park 23 19 W. Hwy 287 Business Waxahachie TX 75167
UID:e.2888.6679
SEQUENCE:3
DTSTAMP:20260424T123805Z
URL:https://business.waxahachiechamber.com/events/details/dia-de-los-muertos-6679
END:VEVENT

END:VCALENDAR
