BEGIN:VCALENDAR
VERSION:2.0
PRODID:-//ChamberMaster//Event Calendar 2.0//EN
METHOD:PUBLISH
X-PUBLISHED-TTL:P3D
REFRESH-INTERVAL:P3D
CALSCALE:GREGORIAN
BEGIN:VEVENT
DTSTART:20241007T230000Z
DTEND:20241008T010000Z
X-MICROSOFT-CDO-ALLDAYEVENT:FALSE
SUMMARY:Ellis County Art Assoc. Hosts Karla Brady Massingill
DESCRIPTION:The Ellis County Art Association will be hosting Karla Brady Massingill\, Texas artist\, at the monthly meeting\, Oct. 7 at First Baptist Church of Waxahachie (450 US287 BYP). The public is encouraged to attend.\n\nKarla Brady is an Oklahoma native\, now living in Texas. She works in both oils and watercolors and both states provide plenty of rural scenes and wide-open spaces\, her favorite subjects. She is a member of Outdoor Painters Society\, Trinity Arts Guild and Ellis County Art Association and has participated in numerous juried shows.\n\nThe meeting at FBC is open to everyone and begins at 6 p.m. with refreshments and socializing. Announcements and business will start at 6:30 and the Demo will begin at 6:45 p.m.
X-ALT-DESC;FMTTYPE=text/html:<span style="font-family:lucida sans\,sans-serif\;"><span style="font-size:14.0pt\;">The Ellis County Art Association will be hosting Karla Brady Massingill\, Texas artist\, at the monthly meeting\, Oct. 7 at First Baptist Church of Waxahachie (450 US287 BYP). The public is encouraged to attend.</span></span><br />\n<span style="color:#5E5E5E\;"><span style="font-family:lucida sans\,sans-serif\;"><span style="font-size:14.0pt\;">Karla Brady is an Oklahoma native\, now living in Texas. She works in both oils and watercolors and both states provide plenty of rural scenes and wide-open spaces\, her favorite subjects. She is a member of Outdoor Painters Society\, Trinity Arts Guild and Ellis County Art Association and has participated in numerous juried shows.</span></span></span><br />\n<span style="background:whitesmoke\;"><span style="color:#2F2F2F\;"><span style="font-family:lucida sans\,sans-serif\;"><span style="font-size:14.0pt\;">The meeting at FBC is open to everyone and begins at 6 p.m. with refreshments and socializing. Announcements and business will start at 6:30 and the Demo will begin at 6:45 p.m.</span></span></span></span>
LOCATION:FBC Waxahachie 450 US 287 Bypass Waxahachie\, TX 75165
UID:e.2888.7325
SEQUENCE:3
DTSTAMP:20260419T145005Z
URL:https://business.waxahachiechamber.com/events/details/ellis-county-art-assoc-hosts-karla-brady-massingill-7325
END:VEVENT

END:VCALENDAR
