BEGIN:VCALENDAR
VERSION:2.0
PRODID:-//ChamberMaster//Event Calendar 2.0//EN
METHOD:PUBLISH
X-PUBLISHED-TTL:P3D
REFRESH-INTERVAL:P3D
CALSCALE:GREGORIAN
BEGIN:VEVENT
DTSTART:20260303T003000Z
DTEND:20260303T010000Z
X-MICROSOFT-CDO-ALLDAYEVENT:FALSE
SUMMARY:Ellis County Art Association - Live Painting Demonstration
DESCRIPTION:Professional artist to present live painting Demo March 2\n\nAward-winning oil painter Lynn LaRose will present a live painting demonstration open to the public in Waxahachie at the monthly meeting of The Ellis County Art Association. She has earned top awards in Paint Historic Waxahachie and was commissioned to create a 2023 Christmas ornament for the Texas House of Representatives. The meeting is March 2 at First Baptist Church of Waxahachie (450 US287 BYP).\n\nLaRose is a professional artist based in Maypearl\, known for oil paintings that depict American Indian\, cowboy and Southern landscape themes. She frequently paints on location throughout Ellis County and will be showcasing her plein air approach and historically inspired subject matter. Her paintings are represented by venues including The Rice Gallery of Fine Art and recognized by the Bosque Arts Center.\n\nThe meeting at FBC is open to everyone and begins at 6 p.m. with refreshments and socializing. Announcements and business will start at 6:30 and the Demo will begin at 6:45 p.m.  It is free to attend and the public is invited.
X-ALT-DESC;FMTTYPE=text/html:<a name="_Hlk222131861"><strong><span style="background:white\;"><span style="color:#222222\;"><span style="font-family:verdana\,sans-serif\;"><span style="font-size:18.0pt\;">Professional artist to present live painting Demo March 2</span></span></span></span></strong></a><br />\n<a name="_Hlk199095829"><span style="font-family:lucida sans\,sans-serif\;"><span style="font-size:14.0pt\;">Award-winning oil painter <strong>Lynn LaRose</strong></span> will present a live painting demonstration open to the public in Waxahachie </span></a><span style="color:#080809\;"><span style="font-family:lucida sans\,sans-serif\;"><span style="font-size:14.0pt\;">at the monthly meeting of </span></span></span><span style="font-family:lucida sans\,sans-serif\;"><span style="font-size:14.0pt\;">The Ellis County Art Association. She has earned top awards in Paint Historic Waxahachie and was commissioned to create a 2023 Christmas ornament for the Texas House of Representatives. </span>The meeting is March 2 at First Baptist Church of Waxahachie (450 US287 BYP).</span><br />\n<span style="font-family:lucida sans\,sans-serif\;"><span style="font-size:14.0pt\;">LaRose is a professional artist based in Maypearl</span>\, known for oil paintings that depict American Indian\, cowboy and Southern landscape themes. She frequently paints on location throughout Ellis County and will be showcasing her plein air approach and historically inspired subject matter. Her paintings are represented by venues including The Rice Gallery of Fine Art</span> and recognized by the Bosque Arts Center.<br />\n<span style="background:whitesmoke\;"><span style="color:black\;"><span style="font-family:lucida sans\,sans-serif\;"><span style="font-size:14.0pt\;">The meeting at FBC is open to everyone and begins at 6 p.m. with refreshments and socializing. Announcements and business will start at 6:30 and the Demo will begin at 6:45 p.m.&nbsp\; It is free to attend and the public is invited. </span></span></span></span><br />\n&nbsp\;
LOCATION:First Baptist Church
UID:e.2888.8405
SEQUENCE:3
DTSTAMP:20260422T090421Z
URL:https://business.waxahachiechamber.com/events/details/ellis-county-art-association-live-painting-demonstration-8405
END:VEVENT

END:VCALENDAR
