BEGIN:VCALENDAR
VERSION:2.0
PRODID:-//ChamberMaster//Event Calendar 2.0//EN
METHOD:PUBLISH
X-PUBLISHED-TTL:P3D
REFRESH-INTERVAL:P3D
CALSCALE:GREGORIAN
BEGIN:VEVENT
DTSTART:20221017T230000Z
DTEND:20221018T003000Z
X-MICROSOFT-CDO-ALLDAYEVENT:FALSE
SUMMARY:Essential Oils 101
DESCRIPTION:It's a 101\, but it's not basic! Essential oils are important in healthy living. From migraines\, to anxiety\, and insomnia to inflammation\, there's an oil for that! Join the class and learn the many uses of oils and how they can change your life.\n\nInstructor is Stephanie Reyna.
X-ALT-DESC;FMTTYPE=text/html:It&#39\;s a 101\, but it&#39\;s not basic! Essential oils are important in healthy living. From migraines\, to anxiety\, and insomnia to inflammation\, there&#39\;s an oil for that! Join the class and learn the many uses of oils and how they can change your life.<br />\nInstructor is Stephanie Reyna.
LOCATION:Waxahachie Global High School 275 Indian Drive Waxahachie\, TX 75165
UID:e.2888.5814
SEQUENCE:3
DTSTAMP:20260424T054510Z
URL:https://business.waxahachiechamber.com/events/details/essential-oils-101-10-17-2022-5814
END:VEVENT

END:VCALENDAR
