BEGIN:VCALENDAR
VERSION:2.0
PRODID:-//ChamberMaster//Event Calendar 2.0//EN
METHOD:PUBLISH
X-PUBLISHED-TTL:P3D
REFRESH-INTERVAL:P3D
CALSCALE:GREGORIAN
BEGIN:VEVENT
DTSTART:20241008T233000Z
DTEND:20241009T010000Z
X-MICROSOFT-CDO-ALLDAYEVENT:FALSE
SUMMARY:Faith & Business Mixer: Town Hall Edition
DESCRIPTION:The DFW Metroplex is one of the largest and fastest-growing economies in the U.S. and 70% of residents prefer to shop local. What a great opportunity for business owners to thrive within the community!\n\n \n\nIs your business positioned to capitalize on this growth?\n\n \n\nJoin us at our quarterly Faith & Business Town Hall Meeting where we'll share what's happening in and around the DFW Metroplex and discuss how you can leverage this information for your business success.\n\n\n\nThis event is designed for you to connect and build solid\, meaningful relationships with like-minded entrepreneurs who are passionate about scaling their businesses with Christ as their foundation.\n\n \n\nThese Town Hall Meetings are designed to help you...\n\n\n	STAY INFORMED - Get the latest updates on what's happening in the City\n\n\n \n\n\n	COLLABORATE - Collaborate in an Open Forum discussion to share ideas\, resources\, and best practices - YOUR VOICE MATTERS!\n\n\n \n\n\n	RECEIVE CORPORATE PRAYER - Join us for a time of collective prayer to elevate & encourage one another (Matthew 18:19-20)\n\n\n \n\n\n	CAPTURE GROWTH OPPORTUNITIES - Discover upcoming local events to set your business up for SUCCESS!\n\n\n\n\n\n\n\nJOIN US ON OCTOBER 8\, 2024 FOR THIS FAITH & BUSINESS TOWN HALL MEETING\n\nSpecial Thanks to Our Location Sponsor\n\n\n\n\n\nFreedom Fellowship Int'l\, 507 N Hwy 77\, Waxahachie\, TX\n\n\n\nAND\n\n\n\nOur Food & Beverage Sponsor\n\nJazlyn Pipkins of Jazleticz LLC
X-ALT-DESC;FMTTYPE=text/html:<div style="margin-left:unset\; margin-right:unset\; text-align:center">The DFW Metroplex is one of the largest and fastest-growing economies in the U.S. and 70% of residents prefer to shop local. What a great opportunity for business owners to thrive within the community!</div>\n\n<div style="margin-left:unset\; margin-right:unset\; text-align:center">&nbsp\;</div>\n\n<div style="margin-left:unset\; margin-right:unset\; text-align:center"><strong>Is your business positioned to capitalize on this growth?</strong></div>\n\n<div style="margin-left:unset\; margin-right:unset\; text-align:center">&nbsp\;</div>\n\n<div style="margin-left:unset\; margin-right:unset\; text-align:center">Join us at our quarterly&nbsp\;<strong><em>Faith &amp\; Business Town Hall Meeting</em></strong>&nbsp\;where we&rsquo\;ll share what&#39\;s happening in and around the DFW Metroplex and discuss how you can leverage this information for your business success.</div>\n\n<p><br />\n<span style="color:rgb(0\, 0\, 0)">This event is designed for you to connect and build solid\, meaningful relationships with like-minded entrepreneurs who are passionate about scaling their businesses with Christ as their foundation.</span></p>\n\n<p>&nbsp\;</p>\n\n<h1 style="text-align:center"><span style="font-size:16px"><strong>These Town Hall Meetings are designed to help you...</strong></span></h1>\n\n<ul>\n	<li><strong><em>STAY INFORMED -&nbsp\;Get the latest updates on what&#39\;s happening in the City</em></strong></li>\n</ul>\n\n<p style="margin-left:unset\; margin-right:unset">&nbsp\;</p>\n\n<ul>\n	<li><strong><em>COLLABORATE -&nbsp\;Collaborate in an Open Forum discussion to share ideas\, resources\, and best practices -&nbsp\;<strong><em>YOUR VOICE MATTERS!</em></strong></em></strong></li>\n</ul>\n\n<p style="margin-left:unset\; margin-right:unset">&nbsp\;</p>\n\n<ul>\n	<li><strong><em>RECEIVE CORPORATE PRAYER -&nbsp\;Join us for a time of collective prayer to elevate &amp\; encourage one another (Matthew 18:19-20)</em></strong></li>\n</ul>\n\n<p style="margin-left:unset\; margin-right:unset">&nbsp\;</p>\n\n<ul>\n	<li><strong><em>CAPTURE GROWTH OPPORTUNITIES -&nbsp\;Discover upcoming local events to set your business up for&nbsp\;<strong><em>SUCCESS!</em></strong></em></strong></li>\n</ul>\n\n<div>\n<div>\n<div style="text-align:center">\n<h1><br />\n<span style="font-size:14px"><strong>JOIN US ON OCTOBER 8\, 2024 FOR THIS&nbsp\;</strong></span><strong>FAITH &amp\; BUSINESS TOWN HALL MEETING</strong></h1>\n\n<p><strong>Special Thanks to Our Location Sponsor</strong></p>\n</div>\n</div>\n\n<div>\n<div style="text-align:center">\n<p style="margin-left:unset\; margin-right:unset"><strong><em>Freedom Fellowship Int&#39\;l\, 507 N Hwy 77\, Waxahachie\, TX<br />\n<br />\nAND<br />\n<br />\nOur Food &amp\; Beverage Sponsor<br />\nJazlyn Pipkins of Jazleticz LLC</em></strong></p>\n</div>\n</div>\n</div>\n
LOCATION:507 Hwy 77\, Waxahachie\, TX In the Shopping Plaza behind the Big Lots
UID:e.2888.7332
SEQUENCE:3
DTSTAMP:20260419T144746Z
URL:https://business.waxahachiechamber.com/events/details/faith-business-mixer-town-hall-edition-7332
END:VEVENT

END:VCALENDAR
