BEGIN:VCALENDAR
VERSION:2.0
PRODID:-//ChamberMaster//Event Calendar 2.0//EN
METHOD:PUBLISH
X-PUBLISHED-TTL:P3D
REFRESH-INTERVAL:P3D
CALSCALE:GREGORIAN
BEGIN:VEVENT
DTSTART:20230306T233000Z
DTEND:20230307T010000Z
X-MICROSOFT-CDO-ALLDAYEVENT:FALSE
SUMMARY:Faith Family Academy Waxahachie Pre-K & Kinder Round-Up
DESCRIPTION:Faith Family Academy Waxahachie Hosts Pre-K & Kinder Round-Up March 6!\n\n \n\nWhat:                  Faith Family Academy (FFA) Waxahachie will host a Pre-K\, which is a full day for ages 3-4\, and Kinder round-up March 6. Faith Family's teachers will be available to give parents and caregivers an overview of the curriculum that is defined by empowering\, inspiring\, and educating the whole child for lifelong success.  The night of the event if parents could bring their photo ID/utility bill and the child's:\n\n\n	Birth certificate\; Immunization records\, and Social security card\n\n\n                       \n\nWhen:                 Monday\, March 6\, 2023\n\n                             5:30 p.m.   7:00 p.m.\n\n \n\nWhere:               Faith Family Academy   Dallas                               \n\n701 Ovilla Rd\n\nWaxahachie\, TX 75167\n\n \n\nAbout:                Faith Family Academy is an open enrollment public charter school district with a mission to educate\, empower and inspire every child for lifelong success. Faith Family Academy serves nearly 3\,000 students on two campuses in Dallas (Oak Cliff) and Waxahachie\, Texas.\n\n \n\nSignature programs\, including EXPLORE360  Adventure Learning\, Navy JROTC\, championship-caliber Athletics\, Two-Way Dual Language\, Fine Arts\, and OnRamps dual enrollment college credit courses\, are just a few ways Faith Family Academy puts students first to extend public education beyond the classroom. Call (214) 375-7682 or visit www.faithfamilyacademy.org for more information..
X-ALT-DESC;FMTTYPE=text/html:<p align="center" style="color: rgb(66\, 66\, 66)\; background-color: rgb(255\, 255\, 255)\; font-size: 10pt\; font-family: Calibri\, sans-serif\; text-align: center\; margin: 0px\;">&nbsp\;</p>\n\n<p align="center" style="color: rgb(66\, 66\, 66)\; background-color: rgb(255\, 255\, 255)\; font-size: 10pt\; font-family: Calibri\, sans-serif\; text-align: center\; margin: 0px\;"><strong><span style="border: 0px\; font-style: inherit\; font-variant: inherit\; font-weight: inherit\; font-stretch: inherit\; font-size: 11pt\; line-height: inherit\; font-family: inherit\; margin: 0px\; padding: 0px\; vertical-align: baseline\; color: inherit\;">Faith Family Academy Waxahachie Hosts Pre-K &amp\; Kinder&nbsp\;Round-Up&nbsp\;March 6!</span></strong></p>\n\n<p style="color: rgb(66\, 66\, 66)\; background-color: rgb(255\, 255\, 255)\; font-size: 10pt\; font-family: Calibri\, sans-serif\; margin: 0px\;"><strong><span style="border: 0px\; font-style: inherit\; font-variant: inherit\; font-weight: inherit\; font-stretch: inherit\; font-size: 11pt\; line-height: inherit\; font-family: inherit\; margin: 0px\; padding: 0px\; vertical-align: baseline\; color: inherit\;">&nbsp\;</span></strong></p>\n\n<p style="color: rgb(66\, 66\, 66)\; background-color: rgb(255\, 255\, 255)\; font-size: 10pt\; font-family: Calibri\, sans-serif\; text-indent: -72pt\; margin: 0px 0px 0px 72pt\;"><strong><span style="border: 0px\; font-style: inherit\; font-variant: inherit\; font-weight: inherit\; font-stretch: inherit\; font-size: 11pt\; line-height: inherit\; font-family: inherit\; margin: 0px\; padding: 0px\; vertical-align: baseline\; color: inherit\;">What:&nbsp\;&nbsp\;&nbsp\;&nbsp\;&nbsp\;&nbsp\;&nbsp\;&nbsp\;&nbsp\;&nbsp\;&nbsp\;&nbsp\;&nbsp\;&nbsp\;&nbsp\;&nbsp\;&nbsp\; Faith Family Academy (FFA) Waxahachie will host a Pre-K\, which is a full day for ages 3-4\, and Kinder&nbsp\;round-up&nbsp\;March 6. Faith Family&rsquo\;s teachers will be available to give parents and caregivers an overview of the curriculum that is defined by empowering\, inspiring\, and educating the whole child for lifelong success. &nbsp\;The night of the event if parents could bring their photo ID/utility bill and the child&rsquo\;s:</span></strong></p>\n\n<ul style="color: rgb(66\, 66\, 66)\; font-family: &quot\;Segoe UI&quot\;\, &quot\;Segoe UI Web (West European)&quot\;\, &quot\;Segoe UI&quot\;\, -apple-system\, BlinkMacSystemFont\, Roboto\, &quot\;Helvetica Neue&quot\;\, sans-serif\; font-size: 15px\; background-color: rgb(255\, 255\, 255)\; margin-top: 0px\; margin-bottom: 0px\;" type="disc">\n	<li><strong><span style="border: 0px\; font-style: inherit\; font-variant: inherit\; font-weight: inherit\; font-stretch: inherit\; font-size: 11pt\; line-height: inherit\; font-family: inherit\; margin: 0px\; padding: 0px\; vertical-align: baseline\; color: inherit\;">Birth certificate\;</span></strong>&nbsp\;<strong><span style="border: 0px\; font-style: inherit\; font-variant: inherit\; font-weight: inherit\; font-stretch: inherit\; font-size: 11pt\; line-height: inherit\; font-family: inherit\; margin: 0px\; padding: 0px\; vertical-align: baseline\; color: inherit\;">Immunization records\, and&nbsp\;</span></strong><strong><span style="border: 0px\; font-style: inherit\; font-variant: inherit\; font-weight: inherit\; font-stretch: inherit\; font-size: 11pt\; line-height: inherit\; font-family: inherit\; margin: 0px\; padding: 0px\; vertical-align: baseline\; color: inherit\;">Social security card</span></strong></li>\n</ul>\n\n<p style="color: rgb(66\, 66\, 66)\; background-color: rgb(255\, 255\, 255)\; font-size: 10pt\; font-family: Calibri\, sans-serif\; text-indent: -72pt\; margin: 0px 0px 0px 72pt\;"><strong><span style="border: 0px\; font-style: inherit\; font-variant: inherit\; font-weight: inherit\; font-stretch: inherit\; font-size: 11pt\; line-height: inherit\; font-family: inherit\; margin: 0px\; padding: 0px\; vertical-align: baseline\; color: inherit\;">&nbsp\;&nbsp\;&nbsp\;&nbsp\;&nbsp\;&nbsp\;&nbsp\;&nbsp\;&nbsp\;&nbsp\;&nbsp\;&nbsp\;&nbsp\;&nbsp\;&nbsp\;&nbsp\;&nbsp\;&nbsp\;&nbsp\;&nbsp\;&nbsp\;&nbsp\;&nbsp\;</span></strong></p>\n\n<p style="color: rgb(66\, 66\, 66)\; background-color: rgb(255\, 255\, 255)\; font-size: 10pt\; font-family: Calibri\, sans-serif\; margin: 0px\;"><strong><span style="border: 0px\; font-style: inherit\; font-variant: inherit\; font-weight: inherit\; font-stretch: inherit\; font-size: 11pt\; line-height: inherit\; font-family: inherit\; margin: 0px\; padding: 0px\; vertical-align: baseline\; color: inherit\;">When:&nbsp\;&nbsp\;&nbsp\;&nbsp\;&nbsp\;&nbsp\;&nbsp\;&nbsp\;&nbsp\;&nbsp\;&nbsp\;&nbsp\;&nbsp\;&nbsp\;&nbsp\;&nbsp\; Monday\, March 6\, 2023</span></strong></p>\n\n<p style="color: rgb(66\, 66\, 66)\; background-color: rgb(255\, 255\, 255)\; font-size: 10pt\; font-family: Calibri\, sans-serif\; margin: 0px\;"><strong><span style="border: 0px\; font-style: inherit\; font-variant: inherit\; font-weight: inherit\; font-stretch: inherit\; font-size: 11pt\; line-height: inherit\; font-family: inherit\; margin: 0px\; padding: 0px\; vertical-align: baseline\; color: inherit\;">&nbsp\;&nbsp\;&nbsp\;&nbsp\;&nbsp\;&nbsp\;&nbsp\;&nbsp\;&nbsp\;&nbsp\;&nbsp\;&nbsp\;&nbsp\;&nbsp\;&nbsp\;&nbsp\;&nbsp\;&nbsp\;&nbsp\;&nbsp\;&nbsp\;&nbsp\;&nbsp\;&nbsp\;&nbsp\;&nbsp\;&nbsp\;&nbsp\; 5:30 p.m. &ndash\; 7:00 p.m.</span></strong></p>\n\n<p style="color: rgb(66\, 66\, 66)\; background-color: rgb(255\, 255\, 255)\; font-size: 10pt\; font-family: Calibri\, sans-serif\; margin: 0px\;"><strong><span style="border: 0px\; font-style: inherit\; font-variant: inherit\; font-weight: inherit\; font-stretch: inherit\; font-size: 11pt\; line-height: inherit\; font-family: inherit\; margin: 0px\; padding: 0px\; vertical-align: baseline\; color: inherit\;">&nbsp\;</span></strong></p>\n\n<p style="color: rgb(66\, 66\, 66)\; background-color: rgb(255\, 255\, 255)\; font-size: 10pt\; font-family: Calibri\, sans-serif\; margin: 0px\;"><strong><span style="border: 0px\; font-style: inherit\; font-variant: inherit\; font-weight: inherit\; font-stretch: inherit\; font-size: 11pt\; line-height: inherit\; font-family: inherit\; margin: 0px\; padding: 0px\; vertical-align: baseline\; color: inherit\;">Where:&nbsp\;&nbsp\;&nbsp\;&nbsp\;&nbsp\;&nbsp\;&nbsp\;&nbsp\;&nbsp\;&nbsp\;&nbsp\;&nbsp\;&nbsp\;&nbsp\;&nbsp\;Faith Family Academy &ndash\; Dallas&nbsp\;&nbsp\;&nbsp\;&nbsp\;&nbsp\;&nbsp\;&nbsp\;&nbsp\;&nbsp\;&nbsp\;&nbsp\;&nbsp\;&nbsp\;&nbsp\;&nbsp\;&nbsp\;&nbsp\;&nbsp\;&nbsp\;&nbsp\;&nbsp\;&nbsp\;&nbsp\;&nbsp\;&nbsp\;&nbsp\;&nbsp\;&nbsp\;&nbsp\;&nbsp\;&nbsp\;</span></strong></p>\n\n<p style="color: rgb(66\, 66\, 66)\; background-color: rgb(255\, 255\, 255)\; font-size: 10pt\; font-family: Calibri\, sans-serif\; text-indent: 36pt\; margin: 0px 0px 0px 36pt\;"><strong><span style="border: 0px\; font-style: inherit\; font-variant: inherit\; font-weight: inherit\; font-stretch: inherit\; font-size: 11pt\; line-height: inherit\; font-family: inherit\; margin: 0px\; padding: 0px\; vertical-align: baseline\; color: inherit\;">701 Ovilla Rd</span></strong></p>\n\n<p style="color: rgb(66\, 66\, 66)\; background-color: rgb(255\, 255\, 255)\; font-size: 10pt\; font-family: Calibri\, sans-serif\; text-indent: 36pt\; margin: 0px 0px 0px 36pt\;"><strong><span style="border: 0px\; font-style: inherit\; font-variant: inherit\; font-weight: inherit\; font-stretch: inherit\; font-size: 11pt\; line-height: inherit\; font-family: inherit\; margin: 0px\; padding: 0px\; vertical-align: baseline\; color: inherit\;">Waxahachie\, TX 75167</span></strong></p>\n\n<p style="color: rgb(66\, 66\, 66)\; background-color: rgb(255\, 255\, 255)\; font-size: 10pt\; font-family: Calibri\, sans-serif\; margin: 0px\;"><strong><span style="border: 0px\; font-style: inherit\; font-variant: inherit\; font-weight: inherit\; font-stretch: inherit\; font-size: 11pt\; line-height: inherit\; font-family: inherit\; margin: 0px\; padding: 0px\; vertical-align: baseline\; color: inherit\;">&nbsp\;</span></strong></p>\n\n<p style="color: rgb(66\, 66\, 66)\; background-color: rgb(255\, 255\, 255)\; font-size: 10pt\; font-family: Calibri\, sans-serif\; text-indent: -72pt\; margin: 0px 0px 0px 72pt\;"><strong><span style="border: 0px\; font-style: inherit\; font-variant: inherit\; font-weight: inherit\; font-stretch: inherit\; font-size: 11pt\; line-height: inherit\; font-family: inherit\; margin: 0px\; padding: 0px\; vertical-align: baseline\; color: inherit\;">About:&nbsp\;&nbsp\;&nbsp\;&nbsp\;&nbsp\;&nbsp\;&nbsp\;&nbsp\;&nbsp\;&nbsp\;&nbsp\;&nbsp\;&nbsp\;&nbsp\;&nbsp\;&nbsp\;Faith Family Academy is an open enrollment public charter school district with a mission to educate\, empower and inspire every child for lifelong success. Faith Family Academy serves nearly 3\,000 students on two campuses in Dallas (Oak Cliff) and Waxahachie\, Texas.</span></strong></p>\n\n<p style="color: rgb(66\, 66\, 66)\; background-color: rgb(255\, 255\, 255)\; font-size: 10pt\; font-family: Calibri\, sans-serif\; text-indent: -72pt\; margin: 0px 0px 0px 72pt\;"><strong><span style="border: 0px\; font-style: inherit\; font-variant: inherit\; font-weight: inherit\; font-stretch: inherit\; font-size: 11pt\; line-height: inherit\; font-family: inherit\; margin: 0px\; padding: 0px\; vertical-align: baseline\; color: inherit\;">&nbsp\;</span></strong></p>\n\n<p style="color: rgb(66\, 66\, 66)\; background-color: rgb(255\, 255\, 255)\; font-size: 10pt\; font-family: Calibri\, sans-serif\; margin: 0px 0px 0px 72pt\;"><strong><span style="border: 0px\; font-style: inherit\; font-variant: inherit\; font-weight: inherit\; font-stretch: inherit\; font-size: 11pt\; line-height: inherit\; font-family: inherit\; margin: 0px\; padding: 0px\; vertical-align: baseline\; color: inherit\;">Signature programs\, including EXPLORE360&trade\; Adventure Learning\, Navy JROTC\, championship-caliber Athletics\, Two-Way Dual Language\, Fine Arts\, and OnRamps dual enrollment college credit courses\, are just a few ways Faith Family Academy puts students first to extend public education beyond the classroom. Call (214) 375-7682 or visit&nbsp\;<a data-auth="NotApplicable" data-linkindex="0" data-safelink="true" href="https://urldefense.proofpoint.com/v2/url?u=http-3A__www.faithfamilyacademy.org&amp\;d=DwQFAg&amp\;c=euGZstcaTDllvimEN8b7jXrwqOf-v5A_CdpgnVfiiMM&amp\;r=nVnSz_82Kp1tnx_LbVFj8bJasZ5mAr7eTkjCPohlojQ&amp\;m=IdUHbS0oU2ALox16Q6MV_0kBBh6GInLQ9g3s6zMj2Pk&amp\;s=h_ipVLPrr-FwEcUiIAp0S3y6xOet7DB1IBFtIUlKLX8&amp\;e=" rel="noopener noreferrer" style="border: 0px\; font: inherit\; margin: 0px\; padding: 0px\; vertical-align: baseline\;" target="_blank">www.faithfamilyacademy.org</a>&nbsp\;for more information..</span></strong></p>\n
LOCATION:701 Ovilla Rd Waxahachie\, TX
UID:e.2888.6019
SEQUENCE:3
DTSTAMP:20260424T151749Z
URL:https://business.waxahachiechamber.com/events/details/faith-family-academy-waxahachie-pre-k-kinder-round-up-6019
END:VEVENT

END:VCALENDAR
