BEGIN:VCALENDAR
VERSION:2.0
PRODID:-//ChamberMaster//Event Calendar 2.0//EN
METHOD:PUBLISH
X-PUBLISHED-TTL:P3D
REFRESH-INTERVAL:P3D
CALSCALE:GREGORIAN
BEGIN:VEVENT
DTSTART:20221012T230000Z
DTEND:20221013T010000Z
X-MICROSOFT-CDO-ALLDAYEVENT:FALSE
SUMMARY:Family Pumpkin Carving Fun! (Class B)
DESCRIPTION:Bring the family to the beautiful pavilion for a special night together! You will pick your pumpkin\, then carve and decorate it as a family. We will provide everything you need and you don't have to worry about the mess! If You would like more than one pumpkin for your family\, please call 972.923-4631 and register with our office for a discount! (Each additional pumpkin is only $25.) Instructor is Jamie Berger.
X-ALT-DESC;FMTTYPE=text/html:<span style="background-color:rgb(255\, 255\, 255)\; font-family:roboto\,robotodraft\,helvetica\,arial\,sans-serif\; font-size:13px">Bring the family to the beautiful pavilion for a special night together! You will pick your pumpkin\, then carve and decorate it as a family. We will provide everything you need and you don&#39\;t have to worry about the mess! If You would like more than one pumpkin for your family\, please call 972.923-4631 and register with our office for a discount! (Each additional pumpkin is only $25.) Instructor is Jamie Berger.</span>
LOCATION:The Greenhouse Venue 500 Mosley Road Ennis\, Texas 75119
UID:e.2888.5799
SEQUENCE:3
DTSTAMP:20260424T035800Z
URL:https://business.waxahachiechamber.com/events/details/family-pumpkin-carving-fun-class-b-5799
END:VEVENT

END:VCALENDAR
