BEGIN:VCALENDAR
VERSION:2.0
PRODID:-//ChamberMaster//Event Calendar 2.0//EN
METHOD:PUBLISH
X-PUBLISHED-TTL:P3D
REFRESH-INTERVAL:P3D
CALSCALE:GREGORIAN
BEGIN:VEVENT
DTSTART:20221108T020000Z
DTEND:20221108T030000Z
X-MICROSOFT-CDO-ALLDAYEVENT:FALSE
SUMMARY:Foster Care & Adoption Online Info Session
DESCRIPTION:Questions about Foster Care & Adoption? Join this Online Info Session to learn how it all works in Texas and we'll answer all of your questions. Register today! Don't want to wait? Questions about registration? Contact us at 512-212-5700 or fosteradopt@pchas.org. Presbyterian Children's Homes and Services (PCHAS) serves families in and near Austin\, Dallas/Fort Worth\, Houston\, Itasca and Wichita Falls.
X-ALT-DESC;FMTTYPE=text/html:Questions about Foster Care &amp\; Adoption? Join this Online Info Session to learn how it all works in Texas and we&rsquo\;ll answer all of your questions. Register today! Don&rsquo\;t want to wait? Questions about registration? Contact us at 512-212-5700 or fosteradopt@pchas.org. Presbyterian Children&rsquo\;s Homes and Services (PCHAS) serves families in and near Austin\, Dallas/Fort Worth\, Houston\, Itasca and Wichita Falls.
LOCATION:Online: https://pchas-org.zoom.us/meeting/register/tZUsde6hrTwrHdz1iVtohdbNluceLNUtvF2q
UID:e.2888.5839
SEQUENCE:3
DTSTAMP:20260424T061725Z
URL:https://business.waxahachiechamber.com/events/details/foster-care-adoption-online-info-session-11-07-2022-5839
END:VEVENT

END:VCALENDAR
