BEGIN:VCALENDAR
VERSION:2.0
PRODID:-//ChamberMaster//Event Calendar 2.0//EN
METHOD:PUBLISH
X-PUBLISHED-TTL:P3D
REFRESH-INTERVAL:P3D
CALSCALE:GREGORIAN
BEGIN:VEVENT
DTSTART:20221213T020000Z
DTEND:20221213T030000Z
X-MICROSOFT-CDO-ALLDAYEVENT:FALSE
SUMMARY:Foster Care & Adoption Online Info Session
DESCRIPTION:Questions about Foster Care & Adoption? Join this Online Info Session to learn how it all works in Texas and we'll answer all of your questions. Register today! Don't want to wait? Questions about registration? Contact us at 972-483-0466 or fosteradopt@pchas.org. Presbyterian Children's Homes and Services (PCHAS) serves families in and near Austin\, Dallas/Fort Worth\, Houston\, Itasca and Wichita Falls.
X-ALT-DESC;FMTTYPE=text/html:Questions about Foster Care &amp\; Adoption? Join this Online Info Session to learn how it all works in Texas and we&rsquo\;ll answer all of your questions. Register today! Don&rsquo\;t want to wait? Questions about registration? Contact us at 972-483-0466 or fosteradopt@pchas.org. Presbyterian Children&rsquo\;s Homes and Services (PCHAS) serves families in and near Austin\, Dallas/Fort Worth\, Houston\, Itasca and Wichita Falls.
LOCATION:Zoom (Online): https://pchas-org.zoom.us/meeting/register/tZctf-CoqT4uE9BaIYsIQbC24IrAoYhE73qX
UID:e.2888.5874
SEQUENCE:3
DTSTAMP:20260424T095650Z
URL:https://business.waxahachiechamber.com/events/details/foster-care-adoption-online-info-session-12-12-2022-5874
END:VEVENT

END:VCALENDAR
