BEGIN:VCALENDAR
VERSION:2.0
PRODID:-//ChamberMaster//Event Calendar 2.0//EN
METHOD:PUBLISH
X-PUBLISHED-TTL:P3D
REFRESH-INTERVAL:P3D
CALSCALE:GREGORIAN
BEGIN:VEVENT
DTSTART:20241005T140000Z
DTEND:20241005T170000Z
X-MICROSOFT-CDO-ALLDAYEVENT:FALSE
SUMMARY:Free Community Store at Triumphal Christian Fellowship
DESCRIPTION:It's time!! We are ready to be a blessing to our community at Triumphal Christian Fellowship!\n\nMark your calendars for this FREE community store where we will give away food boxes\, household goods\, school supplies and much more on Saturday October 5 from 9am until noon!
X-ALT-DESC;FMTTYPE=text/html:<div dir="auto" style="font-family: &quot\;Segoe UI Historic&quot\;\, &quot\;Segoe UI&quot\;\, Helvetica\, Arial\, sans-serif\; color: rgb(5\, 5\, 5)\; font-size: 15px\; white-space-collapse: preserve\;">It&rsquo\;s time!! We are ready to be a blessing to our community at <span class="html-span xdj266r x11i5rnm xat24cr x1mh8g0r xexx8yu x4uap5 x18d9i69 xkhd6sd x1hl2dhg x16tdsg8 x1vvkbs" style="margin: 0px\; text-align: inherit\; overflow-wrap: break-word\; padding: 0px\; font-family: inherit\;"><a attributionsrc="/privacy_sandbox/comet/register/source/?xt=AZXXM3VAh4CiHb_e6oupsip8qwes9dMhRMbTulUh2qEt9_oMWY2xPW484tKf919lmYZSx7_9m9KSM_Q5O1hw2lymRT1NhT3d2c18as8uHVxmkmN0xUs88fyYNUFy3GFxYC5J2oGoC8NVIy_PHPHNtfRh_wDUGTipY4si_uIixpYV5jTUa81ICShwc2u_k8vlLrOv5tJiVskXtFEQ-pe25uQ1ShRugULwOpX-nywrG6e7vQ1awKDr56GV8IBwU-QLel9mmxzyT0brsZFUGK-DGMkiiR7Nzhrx5jsUVn4jpUOF4VWLM-jGW9Q9gK3nI2WSQB7h1JIRqJZS6eZwv-4Jc_uMl9QWepWStyimiVbSjYkitNq-mcVe2VSc2jFyG0DCTK_Y_mEWNKfbb8JUttdC_T-n6eAMtFfUnHXjIztKZd3Q9UqPui0WiJrQnWDKo8tZtmDByj_DzMIZS1gLjLLH2jDpOVkhOcG3qSwjrbp_8j46HyzKDwTbyJ4Pk1kf3Ax3Wf8a8Dx2s4fcWY9vey9YjxNoYh2-FJlPaVThwWD4vLFOuMTpdLW-aaMCpruBjGtjtiuNvy4a9sHCeG9Sx8WMM1toNrf687ldZnHvKhpPlcHqAKpJm2a7zd4rVY6wYB-gEymVcIDzVvlv4qsNH5mYzFDo6Vg_6UZz5fiAbHALBRhE_4OmfDeKnkahj4oPKjiQpLdPuvthsiZ5dAbpNvlpuXgceVwMBZWvYEk2Rp6U4Qi1anTbYo5h1gGayea4GYZwD5gwPwAT0QavaQt7arAxkM0bGqD22UhBpfjAXF8HkL3GreDH3wpFzrbNcKVUy4owREPsVXeB-vELx9SMyfJo4NTgOmquyJ_7Ix-tnz6das_-tUeQh5Bt0zEFhqpPOS-0O5QN88F2eYm7FmkasPm_Aela3J9L7zQd3VvO9SnohsW_QMXlE8WXgSS_YVt0V9sbeQrm5A_GjrLfzALWaG9KLfG6leflGeCoTNkQ3UB2DkgMHGfPPZpe5gngwNm07-4OW2nFV47hPSLa6GmTrjE0NA2Et2HcXTD1Q5FFM6MlRnfKSA1vTMQNWNSgjdcv4BNH8NAEzun0_9h1ZteM95GjGYeTOBiTBmu9TMdo4YOwCSacog5VTRibCbsKtC4dSDm3Vw1-Setw-kffnt6w0QPxnJoGde7S5NAW7VVnO4JVE-vR1Z8Kn8Oz0bcZAH0taja1GJRpvlet1ZB1ZA6WcJMBOiUJ" class="x1i10hfl xjbqb8w x1ejq31n xd10rxx x1sy0etr x17r0tee x972fbf xcfux6l x1qhh985 xm0m39n x9f619 x1ypdohk xt0psk2 xe8uvvx xdj266r x11i5rnm xat24cr x1mh8g0r xexx8yu x4uap5 x18d9i69 xkhd6sd x16tdsg8 x1hl2dhg xggy1nq x1a2a7pz x1sur9pj xkrqix3 xi81zsa x1s688f" href="https://www.facebook.com/groups/3124253270928742/user/100064549997297/?__cft__[0]=AZU5ysVUiMQhPedA3Ef2QRUZg5kUQLguNjTePhfp3QiDnZvVHfj8zbm-9SHyL1IZEXrbnJMGzuGzDtc3wgvfN9c1kRdEFgNSt-N2VGi8tpAPrTqaGHtKUY3iMxXKEVcpNoRqoSe2sr-ufmyomoel4MrgI6KzSUT-yR9X5ZTFmYl17sBzmxM5TIkn3jY6u46D_CAqJ-Z1jGDq_DWZA7fuIBSk&amp\;__tn__=-]K-R" role="link" style="color: var(--secondary-text)\; cursor: pointer\; text-decoration-line: none\; list-style: none\; margin: 0px\; text-align: inherit\; border-style: none\; padding: 0px\; box-sizing: border-box\; border-width: 0px\; outline: none\; -webkit-tap-highlight-color: transparent\; font-weight: 600\; touch-action: manipulation\; background-color: transparent\; display: inline\; font-family: inherit\;" tabindex="0"><span class="xt0psk2" style="display: inline\; font-family: inherit\;"><span style="font-family: inherit\;">Triumphal Christian Fellowship</span></span></a></span>!</div>\n\n<div dir="auto" style="font-family: &quot\;Segoe UI Historic&quot\;\, &quot\;Segoe UI&quot\;\, Helvetica\, Arial\, sans-serif\; color: rgb(5\, 5\, 5)\; font-size: 15px\; white-space-collapse: preserve\;">Mark your calendars for this FREE community store where we will give away food boxes\, household goods\, school supplies and much more on Saturday October 5 from 9am until noon!</div>\n
LOCATION:
UID:e.2888.7326
SEQUENCE:3
DTSTAMP:20260419T144520Z
URL:https://business.waxahachiechamber.com/events/details/free-community-store-at-triumphal-christian-fellowship-7326
END:VEVENT

END:VCALENDAR
