BEGIN:VCALENDAR
VERSION:2.0
PRODID:-//ChamberMaster//Event Calendar 2.0//EN
METHOD:PUBLISH
X-PUBLISHED-TTL:P3D
REFRESH-INTERVAL:P3D
CALSCALE:GREGORIAN
BEGIN:VEVENT
DTSTART:20230319T151500Z
DTEND:20230319T161500Z
X-MICROSOFT-CDO-ALLDAYEVENT:FALSE
SUMMARY:Friends & Family Day at Triumphal Christian Fellowship
DESCRIPTION:It's Friends & Family Day at Triumphal Christian Fellowship! Worship and the Word starts at 10:15am and we would be honored if you would join us for this celebration!
X-ALT-DESC;FMTTYPE=text/html:<span style="color: rgb(36\, 36\, 36)\; font-family: Helvetica\, Arial\, sans-serif\; font-size: 13px\; background-color: rgb(255\, 255\, 255)\;">It&#39\;s Friends &amp\; Family Day at Triumphal Christian Fellowship! Worship and the Word starts at 10:15am and we would be honored if you would join us for this celebration!</span>
LOCATION:200 North Monroe Waxahachie\, TX 75165
UID:e.2888.6005
SEQUENCE:3
DTSTAMP:20260424T151743Z
URL:https://business.waxahachiechamber.com/events/details/friends-family-day-at-triumphal-christian-fellowship-6005
END:VEVENT

END:VCALENDAR
