BEGIN:VCALENDAR
VERSION:2.0
PRODID:-//ChamberMaster//Event Calendar 2.0//EN
METHOD:PUBLISH
X-PUBLISHED-TTL:P3D
REFRESH-INTERVAL:P3D
CALSCALE:GREGORIAN
BEGIN:VEVENT
DTSTART:20221024T230000Z
DTEND:20221025T003000Z
X-MICROSOFT-CDO-ALLDAYEVENT:FALSE
SUMMARY:Gardening For a Lifetime
DESCRIPTION:Gardening poses problems for younger people\, who never seem to have enough time to devote and older people\, who find it physically harder to do the work. Learn how planning\, design\, and innovative tools can help you with a garden that will meet your schedule and physical abilities for the present and for your lifetime.  Instructor is Janet Madison.
X-ALT-DESC;FMTTYPE=text/html:<span style="background-color:rgb(255\, 255\, 255)\; font-family:roboto\,robotodraft\,helvetica\,arial\,sans-serif\; font-size:13px">Gardening poses problems for younger people\, who never seem to have enough time to devote and older people\, who find it physically harder to do the work. Learn how planning\, design\, and innovative tools can help you with a garden that will meet your schedule and physical abilities for the present and for your lifetime.&nbsp\; Instructor is Janet Madison.</span>
LOCATION:Waxahachie Global High School 275 Indian Drive Waxahachie\, Texas 75165
UID:e.2888.5810
SEQUENCE:3
DTSTAMP:20260424T055516Z
URL:https://business.waxahachiechamber.com/events/details/gardening-for-a-lifetime-5810
END:VEVENT

END:VCALENDAR
