BEGIN:VCALENDAR
VERSION:2.0
PRODID:-//ChamberMaster//Event Calendar 2.0//EN
METHOD:PUBLISH
X-PUBLISHED-TTL:P3D
REFRESH-INTERVAL:P3D
CALSCALE:GREGORIAN
BEGIN:VEVENT
DTSTART:20230330T011500Z
DTEND:20230330T011500Z
X-MICROSOFT-CDO-ALLDAYEVENT:FALSE
SUMMARY:Grand Opening/Ribbon Cutting - The Texas Theater
DESCRIPTION:Join us at 8:15 p.m. Wednesday\, March 29 (or a little before) for the official re-lighting of the historic Texas monument sign. The Waxahachie Chamber will be on-hand for a ribbon cutting to kick off our Grand Re-Opening!
X-ALT-DESC;FMTTYPE=text/html:<span style="color: rgb(5\, 5\, 5)\; font-family: Calibri\, Arial\, Helvetica\, sans-serif\; font-size: 15px\; background-color: rgb(255\, 255\, 255)\;">Join us at 8:15 p.m. Wednesday\, March 29 (or a little before) for the official re-lighting of the historic Texas monument sign. The&nbsp\;</span><span style="border: 0px\; font-variant-numeric: inherit\; font-variant-east-asian: inherit\; font-variant-alternates: inherit\; font-stretch: inherit\; font-size: 15px\; line-height: inherit\; font-family: Calibri\, Arial\, Helvetica\, sans-serif\; font-optical-sizing: inherit\; font-kerning: inherit\; font-feature-settings: inherit\; font-variation-settings: inherit\; margin: 0px\; padding: 0px\; vertical-align: baseline\; color: rgb(5\, 5\, 5)\; background-color: rgb(255\, 255\, 255)\;"><a class="x_x1i10hfl x_xjbqb8w x_x6umtig x_x1b1mbwd x_xaqea5y x_xav7gou x_x9f619 x_x1ypdohk x_xt0psk2 x_xe8uvvx x_xdj266r x_x11i5rnm x_xat24cr x_x1mh8g0r x_xexx8yu x_x4uap5 x_x18d9i69 x_xkhd6sd x_x16tdsg8 x_x1hl2dhg x_xggy1nq x_x1a2a7pz x_xt0b8zv x_x1qq9wsj x_xo1l8bm x_ContentPasted0" data-auth="NotApplicable" data-linkindex="0" data-loopstyle="link" data-safelink="true" href="https://www.facebook.com/Waxahachie.Chamber?__cft__[0]=AZXu5yTP2h4ZqVZlVTSr4FJYg_7P6r-0am3pq5YmEmMgJgW3GV7kOZNUDG3xoktYkHyQ0SwabsGFdOky_O1c0jvQ9c_dMQEfzac60D54QyoPbuGn8-6MEDFtmOm_geHpsjVqHKwn60QwGbdnZ9wtjgWc-riCQ1ns2sxgJJGfn98xIg&amp\;__tn__=-]K-R" rel="noopener noreferrer" style="border: 0px\; font-style: inherit\; font-variant: inherit\; font-stretch: inherit\; font-size: inherit\; line-height: inherit\; font-family: inherit\; font-optical-sizing: inherit\; font-kerning: inherit\; font-feature-settings: inherit\; font-variation-settings: inherit\; margin: 0px\; padding: 0px\; vertical-align: baseline\; text-decoration-line: none\; outline: none\; box-sizing: border-box\; list-style: none\; display: inline\;" tabindex="0" target="_blank"><span class="x_xt0psk2" style="border: 0px\; font: inherit\; margin: 0px\; padding: 0px\; vertical-align: baseline\; color: inherit\; display: inline\;">Waxahachie Chamber</span></a></span><span style="color: rgb(5\, 5\, 5)\; font-family: Calibri\, Arial\, Helvetica\, sans-serif\; font-size: 15px\; background-color: rgb(255\, 255\, 255)\;">&nbsp\;will be on-hand for a ribbon cutting to kick off our Grand Re-Opening!</span>
LOCATION:110 W Main St\, Waxahachie\, TX 75165
UID:e.2888.6381
SEQUENCE:3
DTSTAMP:20260424T132328Z
URL:https://business.waxahachiechamber.com/events/details/grand-opening-ribbon-cutting-the-texas-theater-6381
END:VEVENT

END:VCALENDAR
