BEGIN:VCALENDAR
VERSION:2.0
PRODID:-//ChamberMaster//Event Calendar 2.0//EN
METHOD:PUBLISH
X-PUBLISHED-TTL:P3D
REFRESH-INTERVAL:P3D
CALSCALE:GREGORIAN
BEGIN:VEVENT
DTSTART:20230303T153000Z
DTEND:20230303T160000Z
X-MICROSOFT-CDO-ALLDAYEVENT:FALSE
SUMMARY:Grand Opening/Ribbon Cutting: Tropical Smoothie Cafe
DESCRIPTION:Join us for the Grand Opening and Ribbon Cutting Ceremony for Tropical Smoothie Cafe! Lots of fun to be had with giveaways and product samples!\n\n \nTropical Smoothie Cafe is a national fast-casual cafe concept inspiring a healthier lifestyle with more than 1\,200 cafes nationwide. For 25 years\, Tropical Smoothie Cafe has been serving better-for-you smoothies\, wraps\, sandwiches\, salads and flatbreads. Our brand was born on a beach where people know how to live. We like things fun and playful\, sunny and bright. Shake your shoes off and turn the music up. It's time to unwind. At Tropical Smoothie Cafe\, we're committed to inspiring better in the communities we serve by:\n\n \n\n\n	Inspiring Better Choices: We make eating better easy breezy with fresh\, made-to-order smoothies\, wraps\, sandwiches and flatbreads that instantly boost your mood.\n	Inspiring Better Getaways: Experience the good vibes of the tropics whether you're grabbing curbside\, ordering in our app or getting it delivered. It's like a tiny vacay in the middle of your day. You're on Tropic Time Now.\n	Inspiring Better Communities: We make a splash in our communities by donating smoothies and food\, supporting charitable organizations and sponsoring local sports programs. In addition\, we launched a national partnership with No Kid Hungry at the end of August and are currently fundraising for the organization via donations from our LTO Sunshine Smoothie and guest round up campaigns.\n	Inspiring Better Crews: Our franchise family fosters jobs that can launch a career. Our favorite recipe is hard work\, fun and a diverse Sunshine Squad where everyone rocks their unique self!
X-ALT-DESC;FMTTYPE=text/html:<span style="font-size:20px\;"><span style="font-family:arial\;">Join us for the Grand Opening and Ribbon Cutting Ceremony for Tropical Smoothie Cafe! Lots of fun to be had with&nbsp\;<span style="color: rgb(36\, 36\, 36)\;">giveaways and product samples!</span></span></span><br />\n&nbsp\;\n<p style="color: rgb(38\, 40\, 42)\; background-color: rgb(255\, 255\, 255)\; font-size: 11pt\; font-family: Calibri\, sans-serif\; margin: 0px\;"><span style="font-size:20px\;"><span style="font-family:arial\;">Tropical Smoothie Cafe is a national fast-casual cafe concept inspiring a healthier lifestyle with more than 1\,200 cafes nationwide. For 25 years\, Tropical Smoothie Cafe has been serving better-for-you smoothies\, wraps\, sandwiches\, salads and flatbreads. Our brand was born on a beach where people know how to live. We like things fun and playful\, sunny and bright. Shake your shoes off and turn the music up. It&rsquo\;s time to unwind.&nbsp\;At Tropical Smoothie Cafe\, we&rsquo\;re committed to inspiring better in the communities we serve by:</span></span><br />\n&nbsp\;</p>\n\n<ul style="color: rgb(38\, 40\, 42)\; font-family: &quot\;Helvetica Neue&quot\;\, Helvetica\, Arial\, sans-serif\; font-size: 13px\; background-color: rgb(255\, 255\, 255)\; margin-top: 0px\; margin-bottom: 0px\;" type="circle">\n	<li style="color: black !important\; font-size: 11pt\; font-family: Calibri\, sans-serif\; margin: 0px\;"><span style="font-size:20px\;"><span style="font-family:arial\;">Inspiring Better Choices: We make eating better easy breezy with fresh\, made-to-order smoothies\, wraps\, sandwiches and flatbreads that instantly boost your mood.</span></span></li>\n	<li style="color: black !important\; font-size: 11pt\; font-family: Calibri\, sans-serif\; margin: 0px\;"><span style="font-size:20px\;"><span style="font-family:arial\;">Inspiring Better Getaways: Experience the good vibes of the tropics whether you&rsquo\;re grabbing curbside\, ordering in our app or getting it delivered. It&rsquo\;s like a tiny vacay in the middle of your day. You&rsquo\;re on Tropic Time Now.</span></span></li>\n	<li style="color: black !important\; font-size: 11pt\; font-family: Calibri\, sans-serif\; margin: 0px\;"><span style="font-size:20px\;"><span style="font-family:arial\;">Inspiring Better Communities: We make a splash in our communities by donating smoothies and food\, supporting charitable organizations and sponsoring local sports programs. In addition\, we launched a national partnership with No Kid Hungry at the end of August and are currently fundraising for the organization via donations from our LTO Sunshine Smoothie and guest round up campaigns.</span></span></li>\n	<li style="color: black !important\; font-size: 11pt\; font-family: Calibri\, sans-serif\; margin: 0px\;"><span style="font-size:20px\;"><span style="font-family:arial\;">Inspiring Better Crews: Our franchise family fosters jobs that can launch a career. Our favorite recipe is hard work\, fun and a diverse Sunshine Squad where everyone rocks their unique self!</span></span></li>\n</ul>\n<br />\n<br />\n&nbsp\;
LOCATION:2002 Enterprise Parkway\, Ste 100 Waxahachie\, TX 75165
UID:e.2888.6004
SEQUENCE:3
DTSTAMP:20260424T151718Z
URL:https://business.waxahachiechamber.com/events/details/grand-opening-ribbon-cutting-tropical-smoothie-cafe-6004
END:VEVENT

END:VCALENDAR
