BEGIN:VCALENDAR
VERSION:2.0
PRODID:-//ChamberMaster//Event Calendar 2.0//EN
METHOD:PUBLISH
X-PUBLISHED-TTL:P3D
REFRESH-INTERVAL:P3D
CALSCALE:GREGORIAN
BEGIN:VEVENT
DTSTART:20221022T170000Z
DTEND:20221022T200000Z
X-MICROSOFT-CDO-ALLDAYEVENT:FALSE
SUMMARY:Grand Opening: Trinity Salem Family Health Clinic
DESCRIPTION:OPEN HOUSE CELEBRATING OUR GRAND OPENING!\n\n\n\nFOOD TRUCKS\, PRIZES AND MORE! OPEN TO THE PUBLIC!
X-ALT-DESC;FMTTYPE=text/html:OPEN HOUSE CELEBRATING OUR GRAND OPENING!<br />\n<br />\nFOOD TRUCKS\, PRIZES AND MORE! OPEN TO THE PUBLIC!
LOCATION:1007 Legacy Ranch Rd\, Ste 102 Waxahachie\, TX 75165
UID:e.2888.5834
SEQUENCE:3
DTSTAMP:20260424T060137Z
URL:https://business.waxahachiechamber.com/events/details/grand-opening-trinity-salem-family-health-clinic-5834
END:VEVENT

END:VCALENDAR
