BEGIN:VCALENDAR
VERSION:2.0
PRODID:-//ChamberMaster//Event Calendar 2.0//EN
METHOD:PUBLISH
X-PUBLISHED-TTL:P3D
REFRESH-INTERVAL:P3D
CALSCALE:GREGORIAN
BEGIN:VEVENT
DTSTART:20230213T173000Z
DTEND:20230213T180000Z
X-MICROSOFT-CDO-ALLDAYEVENT:FALSE
SUMMARY:Grand Reopening/Ribbon Cutting: Jordan E's Popcorn & Candy Co.
DESCRIPTION:Join us as we celebrate the Grand Reopening of Jordan E's Popcorn & Candy Co. with a Ribbon Cutting Ceremony! They will have a HUGE announcement that you don't want to miss!
X-ALT-DESC;FMTTYPE=text/html:<span style="font-size:20px\;">Join us as we celebrate the Grand Reopening of Jordan E&#39\;s Popcorn &amp\; Candy Co. with a Ribbon Cutting Ceremony! They will have a HUGE announcement that you don&#39\;t want to miss!</span><br />\n&nbsp\;
LOCATION:315 S Rogers Waxahachie\, TX 75165
UID:e.2888.5996
SEQUENCE:3
DTSTAMP:20260424T114156Z
URL:https://business.waxahachiechamber.com/events/details/grand-reopening-ribbon-cutting-jordan-e-s-popcorn-candy-co-5996
END:VEVENT

END:VCALENDAR
