BEGIN:VCALENDAR
VERSION:2.0
PRODID:-//ChamberMaster//Event Calendar 2.0//EN
METHOD:PUBLISH
X-PUBLISHED-TTL:P3D
REFRESH-INTERVAL:P3D
CALSCALE:GREGORIAN
BEGIN:VEVENT
DTSTART:20320108T180000Z
DTEND:20320108T190000Z
X-MICROSOFT-CDO-ALLDAYEVENT:FALSE
SUMMARY:Green Coat Ambassadors Orientation
DESCRIPTION:Annual Green Coat Ambassador Program Orientation Meeting.  Covering pertinent information regarding the Chamber's commitment to our Ambassadors as well as Green Coat responsibilities for the upcoming year.  Complimentary lunch is served.\n\n\n\nLearn more about our Green Coat Ambassadors and apply for your spot HERE!
X-ALT-DESC;FMTTYPE=text/html:<span class="TextRun SCXW6643557 BCX0" data-contrast="none" lang="EN-US" style="margin: 0px\; padding: 0px\; user-select: text\; -webkit-user-drag: none\; -webkit-tap-highlight-color: transparent\; font-style: normal\; color: rgb(50\, 49\, 48)\; font-size: 10pt\; font-family: Calibri\, Calibri_MSFontService\, sans-serif\; font-kerning: none\; line-height: 17.2667px\; font-variant-ligatures: none !important\;" xml:lang="EN-US"><span class="NormalTextRun SCXW6643557 BCX0" style="margin: 0px\; padding: 0px\; user-select: text\; -webkit-user-drag: none\; -webkit-tap-highlight-color: transparent\; background-color: inherit\;">Annual Green Coat Ambassador Program Orientation Meeting.&nbsp\; Covering pertinent information regarding the Chamber&#39\;s commitment to our Ambassadors as well as Green Coat responsibilities for the upcoming year.&nbsp\; Complimentary lunch is served.<br />\n<br />\n<em>Learn more about our </em></span></span><span style="color:#006400\;"><span class="TextRun SCXW6643557 BCX0" data-contrast="none" lang="EN-US" style="margin: 0px\; padding: 0px\; user-select: text\; -webkit-user-drag: none\; -webkit-tap-highlight-color: transparent\; font-style: normal\; font-size: 10pt\; font-family: Calibri\, Calibri_MSFontService\, sans-serif\; font-kerning: none\; line-height: 17.2667px\; font-variant-ligatures: none !important\;" xml:lang="EN-US"><span class="NormalTextRun SCXW6643557 BCX0" style="margin: 0px\; padding: 0px\; user-select: text\; -webkit-user-drag: none\; -webkit-tap-highlight-color: transparent\; background-color: inherit\;"><em>Green Coat Ambassadors</em></span></span></span><span class="TextRun SCXW6643557 BCX0" data-contrast="none" lang="EN-US" style="margin: 0px\; padding: 0px\; user-select: text\; -webkit-user-drag: none\; -webkit-tap-highlight-color: transparent\; font-style: normal\; color: rgb(50\, 49\, 48)\; font-size: 10pt\; font-family: Calibri\, Calibri_MSFontService\, sans-serif\; font-kerning: none\; line-height: 17.2667px\; font-variant-ligatures: none !important\;" xml:lang="EN-US"><span class="NormalTextRun SCXW6643557 BCX0" style="margin: 0px\; padding: 0px\; user-select: text\; -webkit-user-drag: none\; -webkit-tap-highlight-color: transparent\; background-color: inherit\;"><em> and apply for your spot </em></span></span><span class="TextRun SCXW6643557 BCX0" data-contrast="none" lang="EN-US" style="margin: 0px\; padding: 0px\; user-select: text\; -webkit-user-drag: none\; -webkit-tap-highlight-color: transparent\; font-style: normal\; font-size: 10pt\; font-family: Calibri\, Calibri_MSFontService\, sans-serif\; font-kerning: none\; line-height: 17.2667px\; font-variant-ligatures: none !important\;" xml:lang="EN-US"><span class="NormalTextRun SCXW6643557 BCX0" style="margin: 0px\; padding: 0px\; user-select: text\; -webkit-user-drag: none\; -webkit-tap-highlight-color: transparent\; background-color: inherit\;"><em><a href="http://waxahachiechamber.com/ambassadors"><span style="color:#006400\;">HERE</span></a><span style="color:#006400\;">!</span></em></span></span>
LOCATION:Waxahachie Chamber of Commerce - Board Room 102 YMCA Dr\, Waxahachie\, TX 75165
UID:e.2888.2976
SEQUENCE:3
DTSTAMP:20260422T085812Z
URL:https://business.waxahachiechamber.com/events/details/green-coat-ambassadors-orientation-01-08-2032-2976
END:VEVENT

END:VCALENDAR
