BEGIN:VCALENDAR
VERSION:2.0
PRODID:-//ChamberMaster//Event Calendar 2.0//EN
METHOD:PUBLISH
X-PUBLISHED-TTL:P3D
REFRESH-INTERVAL:P3D
CALSCALE:GREGORIAN
BEGIN:VEVENT
DTSTART:20231213T000000Z
DTEND:20231213T020000Z
X-MICROSOFT-CDO-ALLDAYEVENT:FALSE
SUMMARY:Hera's Haven Wedding & Event Venue Christmas Party
DESCRIPTION:Holiday appetizers and drinks provided\, come in holiday attire!\n\n\n\nPlease bring a donation item for one of our non-profit charities:\n\n\n\nFirst Look Pregnancy Center needs newborn diapers\, size 1 diapers and wipes.\n\n\n\nBelieving Restoration is Attainable "BRA" needs paper towels and toilet paper\n\n\n\nRSVP at Christmas (herashaven.com)
X-ALT-DESC;FMTTYPE=text/html:<span style="font-size:18px\;">Holiday appetizers and drinks provided\, come in holiday attire!<br />\n<br />\nPlease bring a donation item for one of our non-profit charities:<br />\n<br />\nFirst Look Pregnancy Center needs newborn diapers\, size 1 diapers and wipes.<br />\n<br />\nBelieving Restoration is Attainable &quot\;BRA&quot\; needs paper towels and toilet paper<br />\n<br />\nRSVP at&nbsp\;<a href="https://herashaven.com/christmas">Christmas (herashaven.com)</a></span>
LOCATION:1222 W Chambers Drive Italy\, TX 76651
UID:e.2888.6697
SEQUENCE:3
DTSTAMP:20260424T110219Z
URL:https://business.waxahachiechamber.com/events/details/hera-s-haven-wedding-event-venue-christmas-party-6697
END:VEVENT

END:VCALENDAR
