BEGIN:VCALENDAR
VERSION:2.0
PRODID:-//ChamberMaster//Event Calendar 2.0//EN
METHOD:PUBLISH
X-PUBLISHED-TTL:P3D
REFRESH-INTERVAL:P3D
CALSCALE:GREGORIAN
BEGIN:VEVENT
DTSTART:20240119T160000Z
DTEND:20240119T200000Z
X-MICROSOFT-CDO-ALLDAYEVENT:FALSE
SUMMARY:Hiring Event
DESCRIPTION:Waxahachie Workforce will be hosting an upcoming Hiring Event for Berry Global 1/19/24 from 10 am -2 pm.
X-ALT-DESC;FMTTYPE=text/html:Waxahachie Workforce will be hosting an upcoming Hiring Event for Berry Global 1/19/24 from 10 am -2 pm.&nbsp\;
LOCATION:The Event will take place at Berry Global located @ 6250 N. Interstate 35 E. Waxahachie
UID:e.2888.6706
SEQUENCE:3
DTSTAMP:20260424T090222Z
URL:https://business.waxahachiechamber.com/events/details/hiring-event-01-19-2024-6706
END:VEVENT

END:VCALENDAR
