BEGIN:VCALENDAR
VERSION:2.0
PRODID:-//ChamberMaster//Event Calendar 2.0//EN
METHOD:PUBLISH
X-PUBLISHED-TTL:P3D
REFRESH-INTERVAL:P3D
CALSCALE:GREGORIAN
BEGIN:VEVENT
DTSTART:20221017T223000Z
DTEND:20221018T010000Z
X-MICROSOFT-CDO-ALLDAYEVENT:FALSE
SUMMARY:Holiday Wreath Making
DESCRIPTION:Welcome Fall with your very own creation: a handmade wreath! This class is for all levels and all supplies are included for you to bring home a gorgeous addition to your front door!  Instructor is Leesa Sherrell.
X-ALT-DESC;FMTTYPE=text/html:<span style="background-color:rgb(255\, 255\, 255)\; font-family:roboto\,robotodraft\,helvetica\,arial\,sans-serif\; font-size:13px">Welcome Fall with your very own creation: a handmade wreath! This class is for all levels and all supplies are included for you to bring home a gorgeous addition to your front door!&nbsp\; Instructor is Leesa Sherrell.</span>
LOCATION:Divine Flowers 401 N. Hwy 77 Waxahachie\, Texas 75165
UID:e.2888.5805
SEQUENCE:3
DTSTAMP:20260424T055532Z
URL:https://business.waxahachiechamber.com/events/details/holiday-wreath-making-10-17-2022-5805
END:VEVENT

END:VCALENDAR
