BEGIN:VCALENDAR
VERSION:2.0
PRODID:-//ChamberMaster//Event Calendar 2.0//EN
METHOD:PUBLISH
X-PUBLISHED-TTL:P3D
REFRESH-INTERVAL:P3D
CALSCALE:GREGORIAN
BEGIN:VEVENT
DTSTART:20230308T010000Z
DTEND:20230308T020000Z
X-MICROSOFT-CDO-ALLDAYEVENT:FALSE
SUMMARY:Home Owner Workshop
DESCRIPTION:Live seminar on wealth building using financial planning and real estate.\n \n\nInstructor & Host - Denise Ovalle of Keller Williams\n\n \n\nRSVP to Denise at 817-366-3620 or deniseovalle@kw.com
X-ALT-DESC;FMTTYPE=text/html:<span style="font-size:20px\;"><span style="color: rgb(5\, 5\, 5)\; font-family: &quot\;Segoe UI Historic&quot\;\, &quot\;Segoe UI&quot\;\, Helvetica\, Arial\, sans-serif\; white-space: pre-wrap\; background-color: rgb(255\, 255\, 255)\;">Live seminar on wealth building using financial planning and real estate.</span></span>\n<div>&nbsp\;</div>\n\n<div><span style="font-size:20px\;"><font color="#050505" face="Segoe UI Historic\, Segoe UI\, Helvetica\, Arial\, sans-serif"><span style="white-space: pre-wrap\; background-color: rgb(255\, 255\, 255)\;">Instructor &amp\; Host - Denise Ovalle of Keller Williams</span></font></span></div>\n\n<div>&nbsp\;</div>\n\n<div><span style="font-size:20px\;"><font color="#050505" face="Segoe UI Historic\, Segoe UI\, Helvetica\, Arial\, sans-serif"><span style="white-space: pre-wrap\; background-color: rgb(255\, 255\, 255)\;">RSVP to Denise at 817-366-3620 or deniseovalle@kw.com</span></font></span></div>\n
LOCATION:Waxahachie Chamber of Commerce 102 YMCA Drive Waxahachie\, TX 75165
UID:e.2888.6013
SEQUENCE:3
DTSTAMP:20260424T150938Z
URL:https://business.waxahachiechamber.com/events/details/home-owner-workshop-6013
END:VEVENT

END:VCALENDAR
