BEGIN:VCALENDAR
VERSION:2.0
PRODID:-//ChamberMaster//Event Calendar 2.0//EN
METHOD:PUBLISH
X-PUBLISHED-TTL:P3D
REFRESH-INTERVAL:P3D
CALSCALE:GREGORIAN
BEGIN:VEVENT
DTSTART:20221011T230000Z
DTEND:20221012T010000Z
X-MICROSOFT-CDO-ALLDAYEVENT:FALSE
SUMMARY:Horsepower Happy Hour - Business\, Banter & Burnouts
DESCRIPTION:NHRA Texas Fall Nationals\n\nStampede of Speed (Oct. 7-16)\n\n\n\nHorsepower Happy Hour\n\nBusiness\, Banter & Burnouts\n\n\n\n6pm Happy Hour & Appetizers\n\n7pm Suite & Racing Experience\n\n\n\nWatch Pro Mod\, Top Sportsman & Top Dragster Shootout with our Suite Holders\n\n\n\nRSVP by October 3 to CJOHNSON@TEXASMOTORPLEX.COM\n\n\n\nOPEN TO ALL ELLIS COUNTY BUSINESSES
X-ALT-DESC;FMTTYPE=text/html:NHRA Texas Fall Nationals<br />\nStampede of Speed (Oct. 7-16)<br />\n<br />\nHorsepower Happy Hour<br />\nBusiness\, Banter &amp\; Burnouts<br />\n<br />\n6pm Happy Hour &amp\; Appetizers<br />\n7pm Suite &amp\; Racing Experience<br />\n<br />\nWatch Pro Mod\, Top Sportsman &amp\; Top Dragster Shootout with our Suite Holders<br />\n<br />\nRSVP by October 3 to CJOHNSON@TEXASMOTORPLEX.COM<br />\n<br />\nOPEN TO ALL ELLIS COUNTY BUSINESSES
LOCATION:Texas Motorplex 7500 W Hwy 287 Ennis\, TX 75119
UID:e.2888.5784
SEQUENCE:3
DTSTAMP:20260424T055904Z
URL:https://business.waxahachiechamber.com/events/details/horsepower-happy-hour-business-banter-burnouts-5784
END:VEVENT

END:VCALENDAR
