BEGIN:VCALENDAR
VERSION:2.0
PRODID:-//ChamberMaster//Event Calendar 2.0//EN
METHOD:PUBLISH
X-PUBLISHED-TTL:P3D
REFRESH-INTERVAL:P3D
CALSCALE:GREGORIAN
BEGIN:VEVENT
DTSTART:20231208T003000Z
DTEND:20231208T030000Z
X-MICROSOFT-CDO-ALLDAYEVENT:FALSE
SUMMARY:Ladies Night at Waxahachie Chiropractic
DESCRIPTION:You're invited to celebrate with us! Shop\, chair massages\, snacks\, door prizes!\n\n\n\nBring your friends and have some fun!
X-ALT-DESC;FMTTYPE=text/html:<span style="font-size:20px\;"><span style="font-family:arial\;">You&#39\;re invited to celebrate with us! Shop\, chair massages\, snacks\, door prizes!<br />\n<br />\nBring your friends and have some fun!</span></span>
LOCATION:1795 N Hwy 77 Suite 104 Waxahachie\, TX 75165
UID:e.2888.6699
SEQUENCE:3
DTSTAMP:20260424T110817Z
URL:https://business.waxahachiechamber.com/events/details/ladies-night-at-waxahachie-chiropractic-6699
END:VEVENT

END:VCALENDAR
