BEGIN:VCALENDAR
VERSION:2.0
PRODID:-//ChamberMaster//Event Calendar 2.0//EN
METHOD:PUBLISH
X-PUBLISHED-TTL:P3D
REFRESH-INTERVAL:P3D
CALSCALE:GREGORIAN
BEGIN:VEVENT
DTSTART:20240130T233000Z
DTEND:20240131T010000Z
X-MICROSOFT-CDO-ALLDAYEVENT:FALSE
SUMMARY:Lil' Eagles Rodeo Roundup
DESCRIPTION:Enrolling PreK-1st Grade at Waxahachie Faith Family Academy!
X-ALT-DESC;FMTTYPE=text/html:Enrolling PreK-1st Grade at Waxahachie Faith Family Academy!
LOCATION:Waxahachie Faith Family Academy 701 Ovilla Rd Waxahachie\, TX 75167
UID:e.2888.6741
SEQUENCE:3
DTSTAMP:20260424T110025Z
URL:https://business.waxahachiechamber.com/events/details/lil-eagles-rodeo-roundup-6741
END:VEVENT

END:VCALENDAR
